Workbook
Name 大多数: [5]XL4Poppy!$A$15
Name 固定资产: [6]XL4Poppy!$A$15
Name 年份: [7]首页!$A:$A

Sheet 封面
A1: 索引页
C4: 资 产 评 估 申 报 表
D5: 企业填写以下内容
D7: 产权持有人： | F7: 抚顺经济开发区诚达融资担保有限公司
D9: 评估基准日： | F9: 2022 | G9: 年 | H9: 7 | I9: 月 | J9: 22 | K9: 日
D11: 产权持有人填表人：
D13: 联系方式：
D15: 填表日期： | F15: 2022 | G15: 年 | H15: 6 | I15: 月 | J15: 28 | K15: 日
D18: 评估机构填写以下内容
D19: 项目负责人：
D21: 签字资产评估师：
D23: 房屋类评估人员：
D25: 设备类评估人员：
D27: 土地评估人员：
D29: 辽宁中华信资产评估有限公司

Sheet 填表说明
A1: 评估申报表填表说明
A2: 返回索引页
A3: 1 | B3: 本工作薄用于资产评估委托人、产权持有人对评估基准日下的委估资产的账面价值的申报；请贵单位填表人员按要求对工作表中审计前账面价值及其以左各栏次或项目据实填写
A4: 2 | B4: 此表各科目明细的合计数，应与本次资产评估范围内的资产评估基准日的资产表的数据相符；
A5: 3 | B5: 如有实物性资产的毁损、报废等的项目应在其备注中说明；
A6: 4 | B6: 明细表中如有日期档，除各明细表中有具体要求外，其格式应为“20**/**”；
B7: 例：“2019年9月10日”应填为“2019/09”
B8: 如无法确定具体月份，请将月份填为01月；
B9: 例：“2019年”应填为“2019/01”
A10: 5 | B10: 如明细表的行数不够时，请填表人员在“合计”的上两行进行插入行；
A11: 6 | B11: 本表格单元格均已设置格式，填写本表格时数据粘贴请数值化粘贴；
A12: 7 | B12: 填表人可通过点击各汇总表中的“科目名称”进入各明细表，再通过点击各工作表左上角的“返回”来返回上一级汇总表。
B13: 注：除以上要求企业填写的或按具体情况评估人员另作要求填写的栏目或项外，企业不应对此套表的其它部分作任何修改变动，谢谢合作！
B15: 核心提示：不适用的工作表可以隐藏，但不可删除！工作表标签不能更改！
B17: 如有疑问请与我公司项目组负责人或现场负责人联系，谢谢！

Sheet 基本情况
A1: 返回索引页
A2: 基本情况表
A3: =CONCATENATE(封面!D9,封面!F9,封面!G9,封面!H9,封面!I9,封面!J9,封面!K9) -> 评估基准日：2022年7月22日
A4: 企业填写以下内容: | K4: 金额单位：人民币元
A5: 被评估单位名称: | B5: 中文 | C5: =IF(封面!F7="","",封面!F7) -> 抚顺经济开发区诚达融资担保有限公司 | H5: 法定代表人 | J5: 联系方式
B6: 英文 | H6: 总经理 | J6: 联系方式
A7: 统一社会信用代码 | H7: 财务负责人 | J7: 联系方式
A8: 法定地址 | F8: 邮政编码 | H8: 项目联系人 | J8: 联系方式
A9: 办公地址 | F9: 邮政编码 | H9: 主管工商机关
A10: 办公电话 | E10: 注册日期 | H10: 主管税务机关
A11: 传真 | E11: 经营期限 | H11: 执行会计制度
A12: 经营范围
A13: 开业日期 | E13: 经济性质 | H13: 总资产额 | J13: 营业收入
A14: 财务结账日 | E14: 所属行业 | H14: 净资产额 | J14: 税后利润
A15: 序号 | B15: 投资者（股东）名称 | H15: 认缴注册资本 | J15: 实收资本
H16: 金额 | I16: 出资比例 | J16: 金额 | K16: 出资比例
A17: 1 | I17: =IF($H$21=0,,H17/$H$21) -> 0 | K17: =IF($J$21=0,,J17/$J$21) -> 0
A18: 2 | I18: =IF($H$21=0,,H18/$H$21) -> 0 | K18: =IF($J$21=0,,J18/$J$21) -> 0
A19: 3 | I19: =IF($H$21=0,,H19/$H$21) -> 0 | K19: =IF($J$21=0,,J19/$J$21) -> 0
A20: … | I20: =IF($H$21=0,,H20/$H$21) -> 0 | K20: =IF($J$21=0,,J20/$J$21) -> 0
A21: 合 计 | H21: =SUM(H17:H20) -> 0 | I21: =SUM(I17:I20) -> 0 | J21: =SUM(J17:J20) -> 0 | K21: =SUM(K17:K20) -> 0
A22: 序号 | B22: 长期投资单位名称 | E22: 地址 | H22: 认缴出资额 | J22: 实缴出资额
H23: 金额 | I23: 出资比例 | J23: 金额 | K23: 出资比例
A24: 1
A25: 2
A26: 3
A27: …
A28: 合 计 | J28: =SUM(J24:J27) -> 0
A29: 序号 | B29: 分支机构名称 | E29: 地址 | H29: 设立时间 | I29: 核算方式 | J29: 主要职责及经营内容
A30: 1
A31: 2
A32: 3
A33: …
A34: 前注册会计师审计结论
A35: 前评估情况
A36: 评估机构填写以下内容:
A37: 委托项目 | B37: 类别 | F37: 项目编号 | I37: 作业日期
B38: 目的 | F38: 报告编号 | I38: 填表日期 | J38: =CONCATENATE(封面!F15,封面!G15,封面!H15,封面!I15,封面!J15,封面!K15) -> 2022年6月28日
B39: 范围 | F39: 项目负责人： | G39: =封面!F19&"" | I39: 法定代表人： | J39: 王绍明
A40: 评估机构： | B40: 北京天圆开资产评估有限公司 | F40: 签字资产评估师： | G40: =封面!G21&""
...

Sheet 固定资产汇总
A1: 返回索引页 | B1: 返回
A2: 固定资产评估汇总表
A3: =CONCATENATE(封面!D9,封面!F9,封面!G9,封面!H9,封面!I9,封面!J9,封面!K9) -> 评估基准日：2022年7月22日
A4: =封面!D7&封面!F7 -> 产权持有人：抚顺经济开发区诚达融资担保有限公司 | L4: 金额单位：人民币元
A5: 编号 | B5: 科目名称 | C5: 审计前账面值 | E5: 账面价值 | G5: 评估价值 | I5: 增值额 | K5: 增值率%
C6: 原值 | D6: 净值 | E6: 原值 | F6: 净值 | G6: 原值 | H6: 净值 | I6: 原值 | J6: 净值 | K6: 原值 | L6: 净值
A7: 4-8-1 | B7: 固定资产-房屋建筑物 | C7: =房屋建筑物!Y25 -> 0 | D7: =房屋建筑物!Z25 -> 1000 | E7: =房屋建筑物!AA25 -> 0 | F7: =房屋建筑物!AB25 -> 0 | G7: =房屋建筑物!AC25 -> 0 | H7: =房屋建筑物!AE25 -> 0 | I7: =G7-E7 -> 0 | J7: =H7-F7 -> 0 | K7: =IF(E7=0,"",I7/E7*100) | L7: =IF(F7=0,"",J7/F7*100)
A8: 4-8-2 | B8: 固定资产-构筑物及其他辅助设施 | C8: =构筑物!M25 -> 0 | D8: =构筑物!N25 -> 0 | E8: =构筑物!O25 -> 0 | F8: =构筑物!P25 -> 0 | G8: =构筑物!Q25 -> 0 | H8: =构筑物!S25 -> 0 | I8: =G8-E8 -> 0 | J8: =H8-F8 -> 0 | K8: =IF(E8=0,"",I8/E8*100) | L8: =IF(F8=0,"",J8/F8*100)
A9: 4-8-3 | B9: 固定资产-管道及沟槽 | C9: =管道沟槽!AF26 -> 0 | D9: =管道沟槽!AK26 -> 0 | E9: =管道沟槽!AL26 -> 0 | F9: =管道沟槽!AM26 -> 0 | G9: =管道沟槽!AN26 -> 0 | H9: =管道沟槽!AP26 -> 0 | I9: =G9-E9 -> 0 | J9: =H9-F9 -> 0 | K9: =IF(E9=0,"",I9/E9*100) | L9: =IF(F9=0,"",J9/F9*100)
B10: 房屋建筑物类减值准备 | D10: =房屋建筑物!Z26+构筑物!N26+管道沟槽!AK27 -> 100 | F10: =房屋建筑物!AB26+构筑物!P26+管道沟槽!AM27 -> 0 | H10: =房屋建筑物!AE26+构筑物!S26+管道沟槽!AP27 -> 0 | I10: =G10-E10 -> 0 | J10: =H10-F10 -> 0 | K10: =IF(E10=0,"",I10/E10*100) | L10: =IF(F10=0,"",J10/F10*100)
B11: 房屋建筑物类合计 | C11: =SUM(C7:C9)-C10 -> 0 | D11: =SUM(D7:D9)-D10 -> 900 | E11: =SUM(E7:E9)-E10 -> 0 | F11: =SUM(F7:F9)-F10 -> 0 | G11: =SUM(G7:G9)-G10 -> 0 | H11: =SUM(H7:H9)-H10 -> 0 | I11: =G11-E11 -> 0 | J11: =H11-F11 -> 0 | K11: =IF(E11=0,"",I11/E11*100) | L11: =IF(F11=0,"",J11/F11*100)
A13: 4-8-4 | B13: 固定资产-机器设备 | C13: =机器设备!M1103 -> 0 | D13: =机器设备!N1103 -> 2000 | E13: =机器设备!O1103 -> 0 | F13: =机器设备!P1103 -> 0 | G13: =机器设备!Q1103 -> 96465000 | H13: =机器设备!S1103 -> 38696078 | I13: =G13-E13 -> 96465000 | J13: =H13-F13 -> 38696078 | K13: =IF(E13=0,"",I13/E13*100) | L13: =IF(F13=0,"",J13/F13*100)
A14: 4-8-5 | B14: 固定资产-车辆 | C14: =车辆!N25 -> 0 | D14: =车辆!O25 -> 0 | E14: =车辆!P25 -> 0 | F14: =车辆!Q25 -> 0 | G14: =车辆!R25 -> 0 | H14: =车辆!T25 -> 0 | I14: =G14-E14 -> 0 | J14: =H14-F14 -> 0 | K14: =IF(E14=0,"",I14/E14*100) | L14: =IF(F14=0,"",J14/F14*100)
A15: 4-8-6 | B15: 固定资产-电子设备 | C15: =电子设备!M25 -> 0 | D15: =电子设备!N25 -> 0 | E15: =电子设备!O25 -> 0 | F15: =电子设备!P25 -> 0 | G15: =电子设备!Q25 -> 0 | H15: =电子设备!S25 -> 0 | I15: =G15-E15 -> 0 | J15: =H15-F15 -> 0 | K15: =IF(E15=0,"",I15/E15*100) | L15: =IF(F15=0,"",J15/F15*100)
B16: 设备类减值准备 | D16: =机器设备!N1104+车辆!O26+电子设备!N26 -> 0 | F16: =机器设备!P1104+车辆!Q26+电子设备!P26 -> 0 | H16: =机器设备!S1104+车辆!T26+电子设备!S26 -> 0 | I16: =G16-E16 -> 0 | J16: =H16-F16 -> 0 | K16: =IF(E16=0,"",I16/E16*100) | L16: =IF(F16=0,"",J16/F16*100)
B17: 设备类合计 | C17: =SUM(C13:C15)-C16 -> 0 | D17: =SUM(D13:D15)-D16 -> 2000 | E17: =SUM(E13:E15)-E16 -> 0 | F17: =SUM(F13:F15)-F16 -> 0 | G17: =SUM(G13:G15)-G16 -> 96465000 | H17: =SUM(H13:H15)-H16 -> 38696078 | I17: =G17-E17 -> 96465000 | J17: =H17-F17 -> 38696078 | K17: =IF(E17=0,"",I17/E17*100) | L17: =IF(F17=0,"",J17/F17*100)
M18: =J17-Sheet1!C16 -> 55727 | O18: =I17-Sheet1!B16 -> 108400
A19: 4-8-7 | B19: 固定资产-土地 | C19: =土地!O28 -> 0 | D19: =土地!P28 -> 0 | E19: =土地!Q28 -> 0 | F19: =土地!R28 -> 0 | G19: =土地!S28 -> 0 | H19: =土地!T28 -> 0 | I19: =G19-E19 -> 0 | J19: =H19-F19 -> 0 | K19: =IF(E19=0,"",I19/E19*100) | L19: =IF(F19=0,"",J19/F19*100)
A21: 4-8 | B21: 固定资产合计 | C21: =SUM(C7:C9,C13:C15,C19) -> 0 | D21: =SUM(D7:D9,D13:D15,D19) -> 3000 | E21: =SUM(E7:E9,E13:E15,E19) -> 0 | F21: =SUM(F7:F9,F13:F15,F19) -> 0 | G21: =SUM(G7:G9,G13:G15,G19) -> 96465000 | H21: =SUM(H7:H9,H13:H15,H19) -> 38696078 | I21: =G21-E21 -> 96465000 | J21: =H21-F21 -> 38696078 | K21: =IF(E21=0,"",I21/E21*100) | L21: =IF(F21=0,"",J21/F21*100)
A22: 4-8 | B22: 减：固定资产减值准备 | D22: =D10+D16 -> 100 | F22: =F10+F16 -> 0 | H22: =H10+H16 -> 0 | I22: =G22-E22 -> 0 | J22: =H22-F22 -> 0 | K22: =IF(E22=0,"",I22/E22*100) | L22: =IF(F22=0,"",J22/F22*100)
A23: 4-8 | B23: 固定资产合计 | C23: =C21-C22 -> 0 | D23: =D21-D22 -> 2900 | E23: =E21-E22 -> 0 | F23: =F21-F22 -> 0 | G23: =G21-G22 -> 96465000 | H23: =H21-H22 -> 38696078 | I23: =I21-I22 -> 96465000 | J23: =J21-J22 -> 38696078 | K23: =IF(E23=0,"",I23/E23*100) | L23: =IF(F23=0,"",J23/F23*100)
H24: 评估机构:辽宁中华信资产评估有限公司

Sheet 房屋建筑物
A1: 返回索引页 | B1: 返回
A2: 固定资产—房屋建筑物评估明细表
A3: =CONCATENATE(封面!D9,封面!F9,封面!G9,封面!H9,封面!I9,封面!J9,封面!K9) -> 评估基准日：2022年7月22日
A4: =封面!D7&封面!F7 -> 产权持有人：抚顺经济开发区诚达融资担保有限公司 | AH4: 金额单位：人民币元
A5: 序号 | B5: 权证编号 | C5: 建筑物名称 | D5: 位置 | E5: 对应土地证号 | F5: 结构 | G5: 总层数 | H5: 长度(m) | I5: 宽度(m) | J5: 檐高(m) | K5: 层高(m) | L5: 所在层数 | M5: 朝向 | N5: 吊车吨位 | O5: 跨度(m) | P5: 柱距(m) | Q5: 使用单位 | R5: 开工年月 | S5: 建成 年月 | T5: 计量单位 | U5: 建筑面积体积 m2或m3 | V5: 成本单价(元/m2) | W5: 折旧年限 | X5: 残值率 | Y5: 审计前账面值 | AA5: 账面价值 | AC5: 评估价值 | AF5: 增值率% | AG5: 评估单价(元/m2) | AH5: 备注 | AI5: 现场勘察简单记录 | AJ5: 证载权利人
Y6: 原值 | Z6: 净值 | AA6: 原值 | AB6: 净值 | AC6: 原值 | AD6: 成新率% | AE6: 净值
V7: =IF(U7=0,"",AA7/U7) | Z7: 1000 | AF7: =IF(AB7=0,"",(AE7-AB7)/AB7*100) | AG7: =IF(U7=0,"",AC7/U7)
V8: =IF(U8=0,"",AA8/U8) | AE8: =ROUND(AC8*AD8/100,0) -> 0 | AF8: =IF(AB8=0,"",(AE8-AB8)/AB8*100) | AG8: =IF(U8=0,"",AC8/U8)
V9: =IF(U9=0,"",AA9/U9) | AE9: =ROUND(AC9*AD9/100,0) -> 0 | AF9: =IF(AB9=0,"",(AE9-AB9)/AB9*100) | AG9: =IF(U9=0,"",AC9/U9)
V10: =IF(U10=0,"",AA10/U10) | AE10: =ROUND(AC10*AD10/100,0) -> 0 | AF10: =IF(AB10=0,"",(AE10-AB10)/AB10*100) | AG10: =IF(U10=0,"",AC10/U10)
V11: =IF(U11=0,"",AA11/U11) | AE11: =ROUND(AC11*AD11/100,0) -> 0 | AF11: =IF(AB11=0,"",(AE11-AB11)/AB11*100) | AG11: =IF(U11=0,"",AC11/U11)
V12: =IF(U12=0,"",AA12/U12) | AE12: =ROUND(AC12*AD12/100,0) -> 0 | AF12: =IF(AB12=0,"",(AE12-AB12)/AB12*100) | AG12: =IF(U12=0,"",AC12/U12)
V13: =IF(U13=0,"",AA13/U13) | AE13: =ROUND(AC13*AD13/100,0) -> 0 | AF13: =IF(AB13=0,"",(AE13-AB13)/AB13*100) | AG13: =IF(U13=0,"",AC13/U13)
V14: =IF(U14=0,"",AA14/U14) | AE14: =ROUND(AC14*AD14/100,0) -> 0 | AF14: =IF(AB14=0,"",(AE14-AB14)/AB14*100) | AG14: =IF(U14=0,"",AC14/U14)
V15: =IF(U15=0,"",AA15/U15) | AE15: =ROUND(AC15*AD15/100,0) -> 0 | AF15: =IF(AB15=0,"",(AE15-AB15)/AB15*100) | AG15: =IF(U15=0,"",AC15/U15)
V16: =IF(U16=0,"",AA16/U16) | AE16: =ROUND(AC16*AD16/100,0) -> 0 | AF16: =IF(AB16=0,"",(AE16-AB16)/AB16*100) | AG16: =IF(U16=0,"",AC16/U16)
V17: =IF(U17=0,"",AA17/U17) | AE17: =ROUND(AC17*AD17/100,0) -> 0 | AF17: =IF(AB17=0,"",(AE17-AB17)/AB17*100) | AG17: =IF(U17=0,"",AC17/U17)
V18: =IF(U18=0,"",AA18/U18) | AE18: =ROUND(AC18*AD18/100,0) -> 0 | AF18: =IF(AB18=0,"",(AE18-AB18)/AB18*100) | AG18: =IF(U18=0,"",AC18/U18)
V19: =IF(U19=0,"",AA19/U19) | AE19: =ROUND(AC19*AD19/100,0) -> 0 | AF19: =IF(AB19=0,"",(AE19-AB19)/AB19*100) | AG19: =IF(U19=0,"",AC19/U19)
... V24: =IF(U24=0,"",AA24/U24) | AE24: =ROUND(AC24*AD24/100,0) -> 0 | AF24: =IF(AB24=0,"",(AE24-AB24)/AB24*100) | AG24: =IF(U24=0,"",AC24/U24)
A25: 合 计 | V25: =IF(U25=0,"",AA25/U25) | Y25: =SUM(Y7:Y24) -> 0 | Z25: =SUM(Z7:Z24) -> 1000 | AA25: =SUM(AA7:AA24) -> 0 | AB25: =SUM(AB7:AB24) -> 0 | AC25: =SUM(AC7:AC24) -> 0 | AE25: =SUM(AE7:AE24) -> 0 | AF25: =IF(AB25=0,"",(AE25-AB25)/AB25*100)
A26: 减：房屋建筑物减值准备 | Z26: 100 | AF26: =IF(AB26=0,"",(AE26-AB26)/AB26*100)
A27: 合 计 | Y27: =Y25-Y26 -> 0 | Z27: =Z25-Z26 -> 900 | AA27: =AA25-AA26 -> 0 | AB27: =AB25-AB26 -> 0 | AC27: =AC25-AC26 -> 0 | AE27: =AE25-AE26 -> 0 | AF27: =IF(AB27=0,"",(AE27-AB27)/AB27*100)
A28: =封面!D11&封面!F11 -> 产权持有人填表人： | AC28: ="评估人员："&封面!F23 -> 评估人员：
A29: =CONCATENATE(封面!D15,封面!F15,封面!G15,封面!H15,封面!I15,封面!J15,封面!K15) -> 填表日期：2022年6月28日

Sheet 构筑物
A1: 返回索引页 | B1: 返回
A2: 固定资产—构筑物及其他辅助设施评估明细表
A3: =CONCATENATE(封面!D9,封面!F9,封面!G9,封面!H9,封面!I9,封面!J9,封面!K9) -> 评估基准日：2022年7月22日
A4: =封面!D7&封面!F7 -> 产权持有人：抚顺经济开发区诚达融资担保有限公司 | V4: 金额单位：人民币元
A5: 序号 | B5: 名称 | C5: 结构 | D5: 使用单位 | E5: 建成 年月 | F5: 长度 (m) | G5: 宽度 (m) | H5: 高度 (m) | I5: 计量单位 | J5: 面积体积m2或m3 | K5: 折旧年限 | L5: 残值率 | M5: 审计前账面值 | O5: 账面价值 | Q5: 评估价值 | T5: 增值率% | U5: 评估单价(元/m2) | V5: 备注
M6: 原值 | N6: 净值 | O6: 原值 | P6: 净值 | Q6: 原值 | R6: 成新率% | S6: 净值
S7: =ROUND(Q7*R7/100,0) -> 0 | T7: =IF(P7=0,"",(S7-P7)/P7*100) | U7: =IF(J7=0,"",Q7/J7)
S8: =ROUND(Q8*R8/100,0) -> 0 | T8: =IF(P8=0,"",(S8-P8)/P8*100) | U8: =IF(J8=0,"",Q8/J8)
S9: =ROUND(Q9*R9/100,0) -> 0 | T9: =IF(P9=0,"",(S9-P9)/P9*100) | U9: =IF(J9=0,"",Q9/J9)
S10: =ROUND(Q10*R10/100,0) -> 0 | T10: =IF(P10=0,"",(S10-P10)/P10*100) | U10: =IF(J10=0,"",Q10/J10)
S11: =ROUND(Q11*R11/100,0) -> 0 | T11: =IF(P11=0,"",(S11-P11)/P11*100) | U11: =IF(J11=0,"",Q11/J11)
S12: =ROUND(Q12*R12/100,0) -> 0 | T12: =IF(P12=0,"",(S12-P12)/P12*100) | U12: =IF(J12=0,"",Q12/J12)
S13: =ROUND(Q13*R13/100,0) -> 0 | T13: =IF(P13=0,"",(S13-P13)/P13*100) | U13: =IF(J13=0,"",Q13/J13)
S14: =ROUND(Q14*R14/100,0) -> 0 | T14: =IF(P14=0,"",(S14-P14)/P14*100) | U14: =IF(J14=0,"",Q14/J14)
S15: =ROUND(Q15*R15/100,0) -> 0 | T15: =IF(P15=0,"",(S15-P15)/P15*100) | U15: =IF(J15=0,"",Q15/J15)
S16: =ROUND(Q16*R16/100,0) -> 0 | T16: =IF(P16=0,"",(S16-P16)/P16*100) | U16: =IF(J16=0,"",Q16/J16)
S17: =ROUND(Q17*R17/100,0) -> 0 | T17: =IF(P17=0,"",(S17-P17)/P17*100) | U17: =IF(J17=0,"",Q17/J17)
S18: =ROUND(Q18*R18/100,0) -> 0 | T18: =IF(P18=0,"",(S18-P18)/P18*100) | U18: =IF(J18=0,"",Q18/J18)
... S24: =ROUND(Q24*R24/100,0) -> 0 | T24: =IF(P24=0,"",(S24-P24)/P24*100) | U24: =IF(J24=0,"",Q24/J24)
A25: 合 计 | M25: =SUM(M7:M24) -> 0 | N25: =SUM(N7:N24) -> 0 | O25: =SUM(O7:O24) -> 0 | P25: =SUM(P7:P24) -> 0 | Q25: =SUM(Q7:Q24) -> 0 | S25: =SUM(S7:S24) -> 0 | T25: =IF(P25=0,"",(S25-P25)/P25*100)
A26: 减：构筑物及其他辅助设施减值准备 | T26: =IF(P26=0,"",(S26-P26)/P26*100)
A27: 合 计 | M27: =M25-M26 -> 0 | N27: =N25-N26 -> 0 | O27: =O25-O26 -> 0 | P27: =P25-P26 -> 0 | Q27: =Q25-Q26 -> 0 | S27: =S25-S26 -> 0 | T27: =IF(P27=0,"",(S27-P27)/P27*100)
A28: =封面!D11&封面!F11 -> 产权持有人填表人： | Q28: ="评估人员："&封面!F23 -> 评估人员：
A29: =CONCATENATE(封面!D15,封面!F15,封面!G15,封面!H15,封面!I15,封面!J15,封面!K15) -> 填表日期：2022年6月28日

Sheet 管道沟槽
A1: 返回索引页 | B1: 返回
A2: 固定资产—管道和沟槽评估明细表
A3: =CONCATENATE(封面!D9,封面!F9,封面!G9,封面!H9,封面!I9,封面!J9,封面!K9) -> 评估基准日：2022年7月22日
A4: =封面!D7&封面!F7 -> 产权持有人：抚顺经济开发区诚达融资担保有限公司 | AR4: 金额单位：人民币元
A5: 序号 | B5: 名称 | C5: 长度 (m) | D5: 施工方式(m) | R5: 管径(mm) | S5: 壁厚(mm) | T5: 阀井个数 | U5: 阀井面积(㎡) | V5: 阀井规格(普通/电磁) | W5: 井内主球阀规格 | X5: 阳极保护个数 | Y5: 压力(Mpa) | Z5: 材质 | AA5: 绝缘/防腐方式 | AB5: 开工日期 | AC5: 建成年月 | AD5: 折旧年限 | AE5: 残值率 | AF5: 审计前账面值 | AL5: 账面价值 | AN5: 评估价值 | AQ5: 增值率% | AR5: 备注
D6: 直埋长度 | E6: 直埋深度 | F6: 穿越工程 | AF6: 原值 | AK6: 净值
F7: 岩石地况% | G7: 土壤地况% | H7: 穿越河流长度 | I7: 穿越河流深度 | J7: 穿越公路长度 | K7: 穿越公路深度 | L7: 穿越铁路长度 | M7: 穿越铁路深度 | N7: 其他地况穿越长度 | O7: 其他地况穿越深度 | P7: 穿越次数 | Q7: 定向钻井口数量 | AF7: 建安工程费用 | AG7: 补偿费用 | AH7: 利息费用 | AI7: 其他费用 | AJ7: 小计 | AL7: 原值 | AM7: 净值 | AN7: 原值 | AO7: 成新率% | AP7: 净值
AJ8: =SUM(AF8:AI8) -> 0 | AP8: =ROUND(AN8*AO8/100,0) -> 0 | AQ8: =IF(AM8=0,"",(AP8-AM8)/AM8*100)
AJ9: =SUM(AF9:AI9) -> 0 | AP9: =ROUND(AN9*AO9/100,0) -> 0 | AQ9: =IF(AM9=0,"",(AP9-AM9)/AM9*100)
AJ10: =SUM(AF10:AI10) -> 0 | AP10: =ROUND(AN10*AO10/100,0) -> 0 | AQ10: =IF(AM10=0,"",(AP10-AM10)/AM10*100)
AJ11: =SUM(AF11:AI11) -> 0 | AP11: =ROUND(AN11*AO11/100,0) -> 0 | AQ11: =IF(AM11=0,"",(AP11-AM11)/AM11*100)
AJ12: =SUM(AF12:AI12) -> 0 | AP12: =ROUND(AN12*AO12/100,0) -> 0 | AQ12: =IF(AM12=0,"",(AP12-AM12)/AM12*100)
AJ13: =SUM(AF13:AI13) -> 0 | AP13: =ROUND(AN13*AO13/100,0) -> 0 | AQ13: =IF(AM13=0,"",(AP13-AM13)/AM13*100)
AJ14: =SUM(AF14:AI14) -> 0 | AP14: =ROUND(AN14*AO14/100,0) -> 0 | AQ14: =IF(AM14=0,"",(AP14-AM14)/AM14*100)
AJ15: =SUM(AF15:AI15) -> 0 | AP15: =ROUND(AN15*AO15/100,0) -> 0 | AQ15: =IF(AM15=0,"",(AP15-AM15)/AM15*100)
AJ16: =SUM(AF16:AI16) -> 0 | AP16: =ROUND(AN16*AO16/100,0) -> 0 | AQ16: =IF(AM16=0,"",(AP16-AM16)/AM16*100)
AJ17: =SUM(AF17:AI17) -> 0 | AP17: =ROUND(AN17*AO17/100,0) -> 0 | AQ17: =IF(AM17=0,"",(AP17-AM17)/AM17*100)
AJ18: =SUM(AF18:AI18) -> 0 | AP18: =ROUND(AN18*AO18/100,0) -> 0 | AQ18: =IF(AM18=0,"",(AP18-AM18)/AM18*100)
AJ19: =SUM(AF19:AI19) -> 0 | AP19: =ROUND(AN19*AO19/100,0) -> 0 | AQ19: =IF(AM19=0,"",(AP19-AM19)/AM19*100)
... AJ25: =SUM(AF25:AI25) -> 0 | AP25: =ROUND(AN25*AO25/100,0) -> 0 | AQ25: =IF(AM25=0,"",(AP25-AM25)/AM25*100)
A26: 合 计 | AF26: =SUM(AF8:AF25) -> 0 | AG26: =SUM(AG8:AG25) -> 0 | AH26: =SUM(AH8:AH25) -> 0 | AI26: =SUM(AI8:AI25) -> 0 | AJ26: =SUM(AJ8:AJ25) -> 0 | AK26: =SUM(AK8:AK25) -> 0 | AL26: =SUM(AL8:AL25) -> 0 | AM26: =SUM(AM8:AM25) -> 0 | AN26: =SUM(AN8:AN25) -> 0 | AP26: =SUM(AP8:AP25) -> 0 | AQ26: =IF(AM26=0,"",(AP26-AM26)/AM26*100)
A27: 减：管道和沟槽减值准备 | AQ27: =IF(AM27=0,"",(AP27-AM27)/AM27*100)
A28: 合 计 | AF28: =AF26-AF27 -> 0 | AG28: =AG26-AG27 -> 0 | AH28: =AH26-AH27 -> 0 | AI28: =AI26-AI27 -> 0 | AJ28: =AJ26-AJ27 -> 0 | AK28: =AK26-AK27 -> 0 | AL28: =AL26-AL27 -> 0 | AM28: =AM26-AM27 -> 0 | AN28: =AN26-AN27 -> 0 | AP28: =AP26-AP27 -> 0 | AQ28: =IF(AM28=0,"",(AP28-AM28)/AM28*100)
A29: =封面!D11&封面!F11 -> 产权持有人填表人： | AN29: ="评估人员："&封面!F23 -> 评估人员：
A30: =CONCATENATE(封面!D15,封面!F15,封面!G15,封面!H15,封面!I15,封面!J15,封面!K15) -> 填表日期：2022年6月28日

Sheet 机器设备
A1: 返回索引页 | B1: 返回
A2: 固定资产—机器设备评估明细表
A3: =CONCATENATE(封面!D9,封面!F9,封面!G9,封面!H9,封面!I9,封面!J9,封面!K9) -> 评估基准日：2022年7月22日
A4: =封面!D7&封面!F7 -> 产权持有人：抚顺经济开发区诚达融资担保有限公司 | U4: 金额单位：人民币元
A5: 序号 | B5: 设备编号 | C5: 设备名称 | D5: 规格型号 | E5: 使用单位 | F5: 生产厂家 | G5: 计量单位 | H5: 数量 | I5: 购置日期 | J5: 启用日期 | K5: 折旧年限 | L5: 残值率 | M5: 审计前账面值 | O5: 账面价值 | Q5: 评估价值 | T5: 增值率% | U5: 备注
M6: 原值 | N6: 净值 | O6: 原值 | P6: 净值 | Q6: 原值 | R6: 成新率% | S6: 净值
A7: 一、 | C7: 机器设备 | N7: 2000 | T7: =IF(P7=0,"",(S7-P7)/P7*100)
A8: ='[8]5、设备评估表 (2)'!A2 -> 1 | B8: ='[8]5、设备评估表 (2)'!B2 -> 0 | C8: ='[8]5、设备评估表 (2)'!C2 -> 卧式加工中心 | D8: ='[8]5、设备评估表 (2)'!D2 -> NH6300GCG11 | F8: ='[8]5、设备评估表 (2)'!G2 -> 日本森精机制作所 | G8: ='[8]5、设备评估表 (2)'!E2 -> 台 | H8: ='[8]5、设备评估表 (2)'!F2 -> 1 | I8: ='[8]5、设备评估表 (2)'!H2 -> 41305 | J8: =I8 -> 41305 | Q8: ='[8]5、设备评估表 (2)'!J2 -> 1911700 | R8: ='[8]5、设备评估表 (2)'!K2*100 -> 32 | S8: =ROUND(Q8*R8/100,0) -> 611744 | U8: ='[8]5、设备评估表 (2)'!N2 -> B1 | V8: =R8-'[8]5、设备评估表 (2)'!$K2*100 -> 0
A9: ='[8]5、设备评估表 (2)'!A3 -> 2 | B9: ='[8]5、设备评估表 (2)'!B3 -> 0 | C9: ='[8]5、设备评估表 (2)'!C3 -> 卧式加工中心 | D9: ='[8]5、设备评估表 (2)'!D3 -> NH8000GCG11 | F9: ='[8]5、设备评估表 (2)'!G3 -> 日本森精机制作所 | G9: ='[8]5、设备评估表 (2)'!E3 -> 台 | H9: ='[8]5、设备评估表 (2)'!F3 -> 1 | I9: ='[8]5、设备评估表 (2)'!H3 -> 41305 | J9: =I9 -> 41305 | Q9: ='[8]5、设备评估表 (2)'!J3 -> 2624600 | R9: ='[8]5、设备评估表 (2)'!K3*100 -> 32 | S9: =ROUND(Q9*R9/100,0) -> 839872 | U9: ='[8]5、设备评估表 (2)'!N3 -> B1 | V9: =R9-'[8]5、设备评估表 (2)'!$K3*100 -> 0
A10: ='[8]5、设备评估表 (2)'!A4 -> 3 | B10: ='[8]5、设备评估表 (2)'!B4 -> 0 | C10: ='[8]5、设备评估表 (2)'!C4 -> 电动攻丝机 | D10: ='[8]5、设备评估表 (2)'!D4 -> S40-16-800 | F10: ='[8]5、设备评估表 (2)'!G4 -> 扬州德科机电制造有限公司 | G10: ='[8]5、设备评估表 (2)'!E4 -> 台 | H10: ='[8]5、设备评估表 (2)'!F4 -> 1 | I10: ='[8]5、设备评估表 (2)'!H4 -> 41305 | J10: =I10 -> 41305 | Q10: ='[8]5、设备评估表 (2)'!J4 -> 18000 | R10: ='[8]5、设备评估表 (2)'!K4*100 -> 41 | S10: =ROUND(Q10*R10/100,0) -> 7380 | U10: ='[8]5、设备评估表 (2)'!N4 -> B1 | V10: =R10-'[8]5、设备评估表 (2)'!$K4*100 -> 0
A11: ='[8]5、设备评估表 (2)'!A5 -> 4 | B11: ='[8]5、设备评估表 (2)'!B5 -> 0 | C11: ='[8]5、设备评估表 (2)'!C5 -> Q3750抛丸机 | D11: ='[8]5、设备评估表 (2)'!D5 -> Q3750 | F11: ='[8]5、设备评估表 (2)'!G5 -> 浙江大丰鑫桥铸造公司 | G11: ='[8]5、设备评估表 (2)'!E5 -> 台 | H11: ='[8]5、设备评估表 (2)'!F5 -> 1 | I11: ='[8]5、设备评估表 (2)'!H5 -> 41090 | J11: =I11 -> 41090 | Q11: ='[8]5、设备评估表 (2)'!J5 -> 155000 | R11: ='[8]5、设备评估表 (2)'!K5*100 -> 40 | S11: =ROUND(Q11*R11/100,0) -> 62000 | U11: ='[8]5、设备评估表 (2)'!N5 -> B2 | V11: =R11-'[8]5、设备评估表 (2)'!$K5*100 -> 0
A12: ='[8]5、设备评估表 (2)'!A6 -> 5 | B12: ='[8]5、设备评估表 (2)'!B6 -> 0 | C12: ='[8]5、设备评估表 (2)'!C6 -> 数控铣床/立式加工中心 | D12: ='[8]5、设备评估表 (2)'!D6 -> DTC1580 | F12: ='[8]5、设备评估表 (2)'!G6 -> 云南鼎泰数控机床厂 | G12: ='[8]5、设备评估表 (2)'!E6 -> 台 | H12: ='[8]5、设备评估表 (2)'!F6 -> 1 | I12: ='[8]5、设备评估表 (2)'!H6 -> 41305 | J12: =I12 -> 41305 | Q12: ='[8]5、设备评估表 (2)'!J6 -> 670000 | R12: ='[8]5、设备评估表 (2)'!K6*100 -> 41 | S12: =ROUND(Q12*R12/100,0) -> 274700 | U12: ='[8]5、设备评估表 (2)'!N6 -> B1 | V12: =R12-'[8]5、设备评估表 (2)'!$K6*100 -> 0
A13: ='[8]5、设备评估表 (2)'!A7 -> 6 | B13: ='[8]5、设备评估表 (2)'!B7 -> 0 | C13: ='[8]5、设备评估表 (2)'!C7 -> 数控车床 | D13: ='[8]5、设备评估表 (2)'!D7 -> CKA6180A | F13: ='[8]5、设备评估表 (2)'!G7 -> 沈阳久诺机电设备有限公司 | G13: ='[8]5、设备评估表 (2)'!E7 -> 台 | H13: ='[8]5、设备评估表 (2)'!F7 -> 1 | I13: ='[8]5、设备评估表 (2)'!H7 -> 41274 | J13: =I13 -> 41274 | Q13: ='[8]5、设备评估表 (2)'!J7 -> 260000 | R13: ='[8]5、设备评估表 (2)'!K7*100 -> 38 | S13: =ROUND(Q13*R13/100,0) -> 98800 | U13: ='[8]5、设备评估表 (2)'!N7 -> B1 | V13: =R13-'[8]5、设备评估表 (2)'!$K7*100 -> 0
A14: ='[8]5、设备评估表 (2)'!A8 -> 7 | B14: ='[8]5、设备评估表 (2)'!B8 -> 0 | C14: ='[8]5、设备评估表 (2)'!C8 -> 数控卧式铣镗床 | D14: ='[8]5、设备评估表 (2)'!D8 -> TK6511B | F14: ='[8]5、设备评估表 (2)'!G8 -> 沈阳机床股份公司中捷机床厂 | G14: ='[8]5、设备评估表 (2)'!E8 -> 台 | H14: ='[8]5、设备评估表 (2)'!F8 -> 1 | I14: ='[8]5、设备评估表 (2)'!H8 -> 41425 | J14: =I14 -> 41425 | Q14: ='[8]5、设备评估表 (2)'!J8 -> 1850000 | R14: ='[8]5、设备评估表 (2)'!K8*100 -> 41 | S14: =ROUND(Q14*R14/100,0) -> 758500 | U14: ='[8]5、设备评估表 (2)'!N8 -> B1 | V14: =R14-'[8]5、设备评估表 (2)'!$K8*100 -> 0
A15: ='[8]5、设备评估表 (2)'!A9 -> 8 | B15: ='[8]5、设备评估表 (2)'!B9 -> 0 | C15: ='[8]5、设备评估表 (2)'!C9 -> 对刀仪 | D15: ='[8]5、设备评估表 (2)'!D9 -> P280050X5Z5NLAK11TM | F15: ='[8]5、设备评估表 (2)'!G9 -> 瑞士PWB | G15: ='[8]5、设备评估表 (2)'!E9 -> 台 | H15: ='[8]5、设备评估表 (2)'!F9 -> 1 | I15: ='[8]5、设备评估表 (2)'!H9 -> 41639 | J15: =I15 -> 41639 | Q15: ='[8]5、设备评估表 (2)'!J9 -> 120000 | R15: ='[8]5、设备评估表 (2)'!K9*100 -> 45 | S15: =ROUND(Q15*R15/100,0) -> 54000 | U15: ='[8]5、设备评估表 (2)'!N9 -> B1 | V15: =R15-'[8]5、设备评估表 (2)'!$K9*100 -> 0
A16: ='[8]5、设备评估表 (2)'!A10 -> 9 | B16: ='[8]5、设备评估表 (2)'!B10 -> 0 | C16: ='[8]5、设备评估表 (2)'!C10 -> 数控卧式铣镗床 | D16: ='[8]5、设备评估表 (2)'!D10 -> TKP6513 | F16: ='[8]5、设备评估表 (2)'!G10 -> 沈阳机床股份公司中捷机床厂 | G16: ='[8]5、设备评估表 (2)'!E10 -> 台 | H16: ='[8]5、设备评估表 (2)'!F10 -> 1 | I16: ='[8]5、设备评估表 (2)'!H10 -> 41425 | J16: =I16 -> 41425 | Q16: ='[8]5、设备评估表 (2)'!J10 -> 2450000 | R16: ='[8]5、设备评估表 (2)'!K10*100 -> 41 | S16: =ROUND(Q16*R16/100,0) -> 1004500 | U16: ='[8]5、设备评估表 (2)'!N10 -> B1 | V16: =R16-'[8]5、设备评估表 (2)'!$K10*100 -> 0
A17: ='[8]5、设备评估表 (2)'!A11 -> 10 | B17: ='[8]5、设备评估表 (2)'!B11 -> 0 | C17: ='[8]5、设备评估表 (2)'!C11 -> 前置过滤器 | D17: ='[8]5、设备评估表 (2)'!D11 -> DDX190 | F17: ='[8]5、设备评估表 (2)'!G11 -> 无锡阿特拉斯科普柯压缩机有限公司 | G17: ='[8]5、设备评估表 (2)'!E11 -> 台 | H17: ='[8]5、设备评估表 (2)'!F11 -> 1 | I17: ='[8]5、设备评估表 (2)'!H11 -> 41639 | J17: =I17 -> 41639 | Q17: ='[8]5、设备评估表 (2)'!J11 -> 3500 | R17: ='[8]5、设备评估表 (2)'!K11*100 -> 40 | S17: =ROUND(Q17*R17/100,0) -> 1400 | U17: ='[8]5、设备评估表 (2)'!N11 -> A5 | V17: =R17-'[8]5、设备评估表 (2)'!$K11*100 -> 0
A18: ='[8]5、设备评估表 (2)'!A12 -> 11 | B18: ='[8]5、设备评估表 (2)'!B12 -> 0 | C18: ='[8]5、设备评估表 (2)'!C12 -> 过滤器 | D18: ='[8]5、设备评估表 (2)'!D12 -> DDX190 | F18: ='[8]5、设备评估表 (2)'!G12 -> 无锡阿特拉斯科普柯压缩机有限公司 | G18: ='[8]5、设备评估表 (2)'!E12 -> 台 | H18: ='[8]5、设备评估表 (2)'!F12 -> 1 | I18: ='[8]5、设备评估表 (2)'!H12 -> 41639 | J18: =I18 -> 41639 | Q18: ='[8]5、设备评估表 (2)'!J12 -> 3500 | R18: ='[8]5、设备评估表 (2)'!K12*100 -> 40 | S18: =ROUND(Q18*R18/100,0) -> 1400 | U18: ='[8]5、设备评估表 (2)'!N12 -> A5 | V18: =R18-'[8]5、设备评估表 (2)'!$K12*100 -> 0
A19: ='[8]5、设备评估表 (2)'!A13 -> 12 | B19: ='[8]5、设备评估表 (2)'!B13 -> 0 | C19: ='[8]5、设备评估表 (2)'!C13 -> 变频螺杆压缩机 | D19: ='[8]5、设备评估表 (2)'!D13 -> GAE.30VSD | F19: ='[8]5、设备评估表 (2)'!G13 -> 无锡阿特拉斯科普柯压缩机有限公司 | G19: ='[8]5、设备评估表 (2)'!E13 -> 台 | H19: ='[8]5、设备评估表 (2)'!F13 -> 1 | I19: ='[8]5、设备评估表 (2)'!H13 -> 41305 | J19: =I19 -> 41305 | Q19: ='[8]5、设备评估表 (2)'!J13 -> 72000 | R19: ='[8]5、设备评估表 (2)'!K13*100 -> 42 | S19: =ROUND(Q19*R19/100,0) -> 30240 | U19: ='[8]5、设备评估表 (2)'!N13 -> B1 | V19: =R19-'[8]5、设备评估表 (2)'!$K13*100 -> 0
... A185: ='[8]5、设备评估表 (2)'!A179 -> 178 | B185: ='[8]5、设备评估表 (2)'!B179 -> 0 | C185: ='[8]5、设备评估表 (2)'!C179 -> 固定式双臂混砂机（组合设备） | D185: ='[8]5、设备评估表 (2)'!D179 -> DS12 | F185: ='[8]5、设备评估表 (2)'!G179 -> 济南第二机床有限公司成套设备 | G185: ='[8]5、设备评估表 (2)'!E179 -> 套 | H185: ='[8]5、设备评估表 (2)'!F179 -> 1 | I185: ='[8]5、设备评估表 (2)'!H179 -> 41274 | J185: =I185 -> 41274 | Q185: ='[8]5、设备评估表 (2)'!J179 -> 3774000 | R185: ='[8]5、设备评估表 (2)'!K179*100 -> 43 | S185: =ROUND(Q185*R185/100,0) -> 1622820 | U185: ='[8]5、设备评估表 (2)'!N179 -> B2 | V185: =R185-'[8]5、设备评估表 (2)'!$K179*100 -> 0
A186: ='[8]5、设备评估表 (2)'!A180 -> 179 | B186: ='[8]5、设备评估表 (2)'!B180 -> 0 | C186: ='[8]5、设备评估表 (2)'!C180 -> 固定式双臂混砂机 | D186: ='[8]5、设备评估表 (2)'!D180 -> DS25 | F186: ='[8]5、设备评估表 (2)'!G180 -> 济南第二机床有限公司成套设备 | G186: ='[8]5、设备评估表 (2)'!E180 -> 台 | H186: ='[8]5、设备评估表 (2)'!F180 -> 1 | I186: ='[8]5、设备评估表 (2)'!H180 -> 41274 | J186: =I186 -> 41274 | U186: ='[8]5、设备评估表 (2)'!N180 -> B2 | V186: =R186-'[8]5、设备评估表 (2)'!$K180*100 -> 0
A187: ='[8]5、设备评估表 (2)'!A181 -> 180 | B187: ='[8]5、设备评估表 (2)'!B181 -> 0 | C187: ='[8]5、设备评估表 (2)'!C181 -> 固定式双臂混砂机 | D187: ='[8]5、设备评估表 (2)'!D181 -> DS12 | F187: ='[8]5、设备评估表 (2)'!G181 -> 济南第二机床有限公司成套设备 | G187: ='[8]5、设备评估表 (2)'!E181 -> 台 | H187: ='[8]5、设备评估表 (2)'!F181 -> 1 | I187: ='[8]5、设备评估表 (2)'!H181 -> 41274 | J187: =I187 -> 41274 | U187: ='[8]5、设备评估表 (2)'!N181 -> B2 | V187: =R187-'[8]5、设备评估表 (2)'!$K181*100 -> 0
A188: ='[8]5、设备评估表 (2)'!A182 -> 181 | B188: ='[8]5、设备评估表 (2)'!B182 -> 0 | C188: ='[8]5、设备评估表 (2)'!C182 -> 离心通风机 | D188: ='[8]5、设备评估表 (2)'!D182 -> 4-68-10D | F188: ='[8]5、设备评估表 (2)'!G182 -> 济南第二机床有限公司成套设备 | G188: ='[8]5、设备评估表 (2)'!E182 -> 台 | H188: ='[8]5、设备评估表 (2)'!F182 -> 1 | I188: ='[8]5、设备评估表 (2)'!H182 -> 41274 | J188: =I188 -> 41274 | U188: ='[8]5、设备评估表 (2)'!N182 -> B2东外 | V188: =R188-'[8]5、设备评估表 (2)'!$K182*100 -> 0
A189: ='[8]5、设备评估表 (2)'!A183 -> 182 | B189: ='[8]5、设备评估表 (2)'!B183 -> 0 | C189: ='[8]5、设备评估表 (2)'!C183 -> 离心通风机 | D189: ='[8]5、设备评估表 (2)'!D183 -> 4-68-10D | F189: ='[8]5、设备评估表 (2)'!G183 -> 济南第二机床有限公司成套设备 | G189: ='[8]5、设备评估表 (2)'!E183 -> 台 | H189: ='[8]5、设备评估表 (2)'!F183 -> 1 | I189: ='[8]5、设备评估表 (2)'!H183 -> 41274 | J189: =I189 -> 41274 | U189: ='[8]5、设备评估表 (2)'!N183 -> B2东外 | V189: =R189-'[8]5、设备评估表 (2)'!$K183*100 -> 0
A190: ='[8]5、设备评估表 (2)'!A184 -> 183 | B190: ='[8]5、设备评估表 (2)'!B184 -> 0 | C190: ='[8]5、设备评估表 (2)'!C184 -> 除尘设备 | D190: ='[8]5、设备评估表 (2)'!D184 -> 布袋 | F190: ='[8]5、设备评估表 (2)'!G184 -> 济南第二机床有限公司成套设备 | G190: ='[8]5、设备评估表 (2)'!E184 -> 台 | H190: ='[8]5、设备评估表 (2)'!F184 -> 1 | I190: ='[8]5、设备评估表 (2)'!H184 -> 41274 | J190: =I190 -> 41274 | U190: ='[8]5、设备评估表 (2)'!N184 -> B2东外 | V190: =R190-'[8]5、设备评估表 (2)'!$K184*100 -> 0
A191: ='[8]5、设备评估表 (2)'!A185 -> 184 | B191: ='[8]5、设备评估表 (2)'!B185 -> 0 | C191: ='[8]5、设备评估表 (2)'!C185 -> 除尘设备 | D191: ='[8]5、设备评估表 (2)'!D185 -> 布袋 | F191: ='[8]5、设备评估表 (2)'!G185 -> 济南第二机床有限公司成套设备 | G191: ='[8]5、设备评估表 (2)'!E185 -> 台 | H191: ='[8]5、设备评估表 (2)'!F185 -> 1 | I191: ='[8]5、设备评估表 (2)'!H185 -> 41274 | J191: =I191 -> 41274 | U191: ='[8]5、设备评估表 (2)'!N185 -> B2东外 | V191: =R191-'[8]5、设备评估表 (2)'!$K185*100 -> 0
A192: ='[8]5、设备评估表 (2)'!A186 -> 185 | B192: ='[8]5、设备评估表 (2)'!B186 -> 0 | C192: ='[8]5、设备评估表 (2)'!C186 -> 玻璃钢冷却塔 | D192: ='[8]5、设备评估表 (2)'!D186 -> DDN3-80 | F192: ='[8]5、设备评估表 (2)'!G186 -> 济南第二机床有限公司成套设备 | G192: ='[8]5、设备评估表 (2)'!E186 -> 台 | H192: ='[8]5、设备评估表 (2)'!F186 -> 1 | I192: ='[8]5、设备评估表 (2)'!H186 -> 41274 | J192: =I192 -> 41274 | U192: ='[8]5、设备评估表 (2)'!N186 -> B2东外 | V192: =R192-'[8]5、设备评估表 (2)'!$K186*100 -> 0
A193: ='[8]5、设备评估表 (2)'!A187 -> 186 | B193: ='[8]5、设备评估表 (2)'!B187 -> 0 | C193: ='[8]5、设备评估表 (2)'!C187 -> 振动落砂机 | D193: ='[8]5、设备评估表 (2)'!D187 -> 0 | F193: ='[8]5、设备评估表 (2)'!G187 -> 济南第二机床有限公司成套设备 | G193: ='[8]5、设备评估表 (2)'!E187 -> 台 | H193: ='[8]5、设备评估表 (2)'!F187 -> 1 | I193: ='[8]5、设备评估表 (2)'!H187 -> 41274 | J193: =I193 -> 41274 | U193: ='[8]5、设备评估表 (2)'!N187 -> B2 | V193: =R193-'[8]5、设备评估表 (2)'!$K187*100 -> 0
A194: ='[8]5、设备评估表 (2)'!A188 -> 187 | B194: ='[8]5、设备评估表 (2)'!B188 -> 0 | C194: ='[8]5、设备评估表 (2)'!C188 -> 振动破碎机 | D194: ='[8]5、设备评估表 (2)'!D188 -> 0 | F194: ='[8]5、设备评估表 (2)'!G188 -> 济南第二机床有限公司成套设备 | G194: ='[8]5、设备评估表 (2)'!E188 -> 台 | H194: ='[8]5、设备评估表 (2)'!F188 -> 1 | I194: ='[8]5、设备评估表 (2)'!H188 -> 41274 | J194: =I194 -> 41274 | U194: ='[8]5、设备评估表 (2)'!N188 -> B2 | V194: =R194-'[8]5、设备评估表 (2)'!$K188*100 -> 0
A195: ='[8]5、设备评估表 (2)'!A189 -> 188 | B195: ='[8]5、设备评估表 (2)'!B189 -> 0 | C195: ='[8]5、设备评估表 (2)'!C189 -> 呋喃树脂砂再生线系统设备 | D195: ='[8]5、设备评估表 (2)'!D189 -> 4个罐 | F195: ='[8]5、设备评估表 (2)'!G189 -> 济南第二机床有限公司成套设备 | G195: ='[8]5、设备评估表 (2)'!E189 -> 组 | H195: ='[8]5、设备评估表 (2)'!F189 -> 1 | I195: ='[8]5、设备评估表 (2)'!H189 -> 41274 | J195: =I195 -> 41274 | U195: ='[8]5、设备评估表 (2)'!N189 -> B2 | V195: =R195-'[8]5、设备评估表 (2)'!$K189*100 -> 0
A196: ='[8]5、设备评估表 (2)'!A190 -> 189 | B196: ='[8]5、设备评估表 (2)'!B190 -> 0 | C196: ='[8]5、设备评估表 (2)'!C190 -> 单梁起重机 | D196: ='[8]5、设备评估表 (2)'!D190 -> 3T16.5m*9m | F196: ='[8]5、设备评估表 (2)'!G190 -> 抚顺金梁起重机 | G196: ='[8]5、设备评估表 (2)'!E190 -> 台 | H196: ='[8]5、设备评估表 (2)'!F190 -> 1 | I196: ='[8]5、设备评估表 (2)'!H190 -> 41275 | J196: =I196 -> 41275 | Q196: ='[8]5、设备评估表 (2)'!J190 -> 36000 | R196: ='[8]5、设备评估表 (2)'!K190*100 -> 49 | S196: =ROUND(Q196*R196/100,0) -> 17640 | U196: ='[8]5、设备评估表 (2)'!N190 -> B1 | V196: =R196-'[8]5、设备评估表 (2)'!$K190*100 -> 0
A197: ='[8]5、设备评估表 (2)'!A191 -> 190 | B197: ='[8]5、设备评估表 (2)'!B191 -> 0 | C197: ='[8]5、设备评估表 (2)'!C191 -> 单梁起重机 | D197: ='[8]5、设备评估表 (2)'!D191 -> 3T16.5m*9m | F197: ='[8]5、设备评估表 (2)'!G191 -> 抚顺金梁起重机 | G197: ='[8]5、设备评估表 (2)'!E191 -> 台 | H197: ='[8]5、设备评估表 (2)'!F191 -> 1 | I197: ='[8]5、设备评估表 (2)'!H191 -> 41275 | J197: =I197 -> 41275 | Q197: ='[8]5、设备评估表 (2)'!J191 -> 36000 | R197: ='[8]5、设备评估表 (2)'!K191*100 -> 49 | S197: =ROUND(Q197*R197/100,0) -> 17640 | U197: ='[8]5、设备评估表 (2)'!N191 -> B1 | V197: =R197-'[8]5、设备评估表 (2)'!$K191*100 -> 0
A198: ='[8]5、设备评估表 (2)'!A192 -> 191 | B198: ='[8]5、设备评估表 (2)'!B192 -> 0 | C198: ='[8]5、设备评估表 (2)'!C192 -> 单梁起重机 | D198: ='[8]5、设备评估表 (2)'!D192 -> 10T--16.5*12 | F198: ='[8]5、设备评估表 (2)'!G192 -> 抚顺金梁起重机 | G198: ='[8]5、设备评估表 (2)'!E192 -> 台 | H198: ='[8]5、设备评估表 (2)'!F192 -> 1 | I198: ='[8]5、设备评估表 (2)'!H192 -> 41275 | J198: =I198 -> 41275 | Q198: ='[8]5、设备评估表 (2)'!J192 -> 69000 | R198: ='[8]5、设备评估表 (2)'!K192*100 -> 49 | S198: =ROUND(Q198*R198/100,0) -> 33810 | U198: ='[8]5、设备评估表 (2)'!N192 -> B1 | V198: =R198-'[8]5、设备评估表 (2)'!$K192*100 -> 0
A199: ='[8]5、设备评估表 (2)'!A193 -> 192 | B199: ='[8]5、设备评估表 (2)'!B193 -> 0 | C199: ='[8]5、设备评估表 (2)'!C193 -> 单梁吊车 | D199: ='[8]5、设备评估表 (2)'!D193 -> 3T16.5m*9m | F199: ='[8]5、设备评估表 (2)'!G193 -> 抚顺金梁起重机 | G199: ='[8]5、设备评估表 (2)'!E193 -> 台 | H199: ='[8]5、设备评估表 (2)'!F193 -> 1 | I199: ='[8]5、设备评估表 (2)'!H193 -> 41090 | J199: =I199 -> 41090 | Q199: ='[8]5、设备评估表 (2)'!J193 -> 42000 | R199: ='[8]5、设备评估表 (2)'!K193*100 -> 46 | S199: =ROUND(Q199*R199/100,0) -> 19320 | U199: ='[8]5、设备评估表 (2)'!N193 -> B1 | V199: =R199-'[8]5、设备评估表 (2)'!$K193*100 -> 0
A200: ='[8]5、设备评估表 (2)'!A194 -> 193 | B200: ='[8]5、设备评估表 (2)'!B194 -> 0 | C200: ='[8]5、设备评估表 (2)'!C194 -> 单梁吊车 | D200: ='[8]5、设备评估表 (2)'!D194 -> 3T16.5m*9m | F200: ='[8]5、设备评估表 (2)'!G194 -> 抚顺金梁起重机 | G200: ='[8]5、设备评估表 (2)'!E194 -> 台 | H200: ='[8]5、设备评估表 (2)'!F194 -> 1 | I200: ='[8]5、设备评估表 (2)'!H194 -> 41090 | J200: =I200 -> 41090 | Q200: ='[8]5、设备评估表 (2)'!J194 -> 42000 | R200: ='[8]5、设备评估表 (2)'!K194*100 -> 46 | S200: =ROUND(Q200*R200/100,0) -> 19320 | U200: ='[8]5、设备评估表 (2)'!N194 -> B1 | V200: =R200-'[8]5、设备评估表 (2)'!$K194*100 -> 0
A201: ='[8]5、设备评估表 (2)'!A195 -> 194 | B201: ='[8]5、设备评估表 (2)'!B195 -> 0 | C201: ='[8]5、设备评估表 (2)'!C195 -> 单梁吊车 | D201: ='[8]5、设备评估表 (2)'!D195 -> 3T16.5m*9m | F201: ='[8]5、设备评估表 (2)'!G195 -> 抚顺金梁起重机 | G201: ='[8]5、设备评估表 (2)'!E195 -> 台 | H201: ='[8]5、设备评估表 (2)'!F195 -> 1 | I201: ='[8]5、设备评估表 (2)'!H195 -> 41090 | J201: =I201 -> 41090 | Q201: ='[8]5、设备评估表 (2)'!J195 -> 42000 | R201: ='[8]5、设备评估表 (2)'!K195*100 -> 46 | S201: =ROUND(Q201*R201/100,0) -> 19320 | U201: ='[8]5、设备评估表 (2)'!N195 -> B1 | V201: =R201-'[8]5、设备评估表 (2)'!$K195*100 -> 0
A202: ='[8]5、设备评估表 (2)'!A196 -> 195 | B202: ='[8]5、设备评估表 (2)'!B196 -> 0 | C202: ='[8]5、设备评估表 (2)'!C196 -> 单梁吊车 | D202: ='[8]5、设备评估表 (2)'!D196 -> 3T16.5m*9m | F202: ='[8]5、设备评估表 (2)'!G196 -> 抚顺金梁起重机 | G202: ='[8]5、设备评估表 (2)'!E196 -> 台 | H202: ='[8]5、设备评估表 (2)'!F196 -> 1 | I202: ='[8]5、设备评估表 (2)'!H196 -> 41090 | J202: =I202 -> 41090 | Q202: ='[8]5、设备评估表 (2)'!J196 -> 42000 | R202: ='[8]5、设备评估表 (2)'!K196*100 -> 46 | S202: =ROUND(Q202*R202/100,0) -> 19320 | U202: ='[8]5、设备评估表 (2)'!N196 -> B1 | V202: =R202-'[8]5、设备评估表 (2)'!$K196*100 -> 0
A203: ='[8]5、设备评估表 (2)'!A197 -> 196 | B203: ='[8]5、设备评估表 (2)'!B197 -> 0 | C203: ='[8]5、设备评估表 (2)'!C197 -> 单梁吊车 | D203: ='[8]5、设备评估表 (2)'!D197 -> 3T16.5m*9m | F203: ='[8]5、设备评估表 (2)'!G197 -> 抚顺金梁起重机 | G203: ='[8]5、设备评估表 (2)'!E197 -> 台 | H203: ='[8]5、设备评估表 (2)'!F197 -> 1 | I203: ='[8]5、设备评估表 (2)'!H197 -> 41090 | J203: =I203 -> 41090 | Q203: ='[8]5、设备评估表 (2)'!J197 -> 42000 | R203: ='[8]5、设备评估表 (2)'!K197*100 -> 46 | S203: =ROUND(Q203*R203/100,0) -> 19320 | U203: ='[8]5、设备评估表 (2)'!N197 -> B1 | V203: =R203-'[8]5、设备评估表 (2)'!$K197*100 -> 0
A204: ='[8]5、设备评估表 (2)'!A198 -> 197 | B204: ='[8]5、设备评估表 (2)'!B198 -> 0 | C204: ='[8]5、设备评估表 (2)'!C198 -> 单梁吊车 | D204: ='[8]5、设备评估表 (2)'!D198 -> 3T16.5m*9m | F204: ='[8]5、设备评估表 (2)'!G198 -> 抚顺金梁起重机 | G204: ='[8]5、设备评估表 (2)'!E198 -> 台 | H204: ='[8]5、设备评估表 (2)'!F198 -> 1 | I204: ='[8]5、设备评估表 (2)'!H198 -> 41090 | J204: =I204 -> 41090 | Q204: ='[8]5、设备评估表 (2)'!J198 -> 42000 | R204: ='[8]5、设备评估表 (2)'!K198*100 -> 46 | S204: =ROUND(Q204*R204/100,0) -> 19320 | U204: ='[8]5、设备评估表 (2)'!N198 -> B1 | V204: =R204-'[8]5、设备评估表 (2)'!$K198*100 -> 0
A205: ='[8]5、设备评估表 (2)'!A199 -> 198 | B205: ='[8]5、设备评估表 (2)'!B199 -> 0 | C205: ='[8]5、设备评估表 (2)'!C199 -> 单梁吊车 | D205: ='[8]5、设备评估表 (2)'!D199 -> 3TD16.5m | F205: ='[8]5、设备评估表 (2)'!G199 -> 抚顺金梁起重机 | G205: ='[8]5、设备评估表 (2)'!E199 -> 台 | H205: ='[8]5、设备评估表 (2)'!F199 -> 1 | I205: ='[8]5、设备评估表 (2)'!H199 -> 41090 | J205: =I205 -> 41090 | Q205: ='[8]5、设备评估表 (2)'!J199 -> 42000 | R205: ='[8]5、设备评估表 (2)'!K199*100 -> 46 | S205: =ROUND(Q205*R205/100,0) -> 19320 | U205: ='[8]5、设备评估表 (2)'!N199 -> A1 | V205: =R205-'[8]5、设备评估表 (2)'!$K199*100 -> 0
...

Sheet 固定资产汇总 (2)
A1: 返回索引页 | B1: 返回
A2: 固定资产评估汇总表
A3: =CONCATENATE(封面!D9,封面!F9,封面!G9,封面!H9,封面!I9,封面!J9,封面!K9) -> 评估基准日：2022年7月22日
A4: =封面!D7&封面!F7 -> 产权持有人：抚顺经济开发区诚达融资担保有限公司 | L4: 金额单位：人民币元
A5: 编号 | B5: 科目名称 | C5: 审计前账面值 | E5: 账面价值 | G5: 评估价值 | I5: 增值额 | K5: 增值率%
C6: 原值 | D6: 净值 | E6: 原值 | F6: 净值 | G6: 原值 | H6: 净值 | I6: 原值 | J6: 净值 | K6: 原值 | L6: 净值
A7: 4-8-1 | B7: 固定资产-房屋建筑物 | C7: =房屋建筑物!Y25 -> 0 | D7: =房屋建筑物!Z25 -> 1000 | E7: =房屋建筑物!AA25 -> 0 | F7: =房屋建筑物!AB25 -> 0 | G7: =房屋建筑物!AC25 -> 0 | H7: =房屋建筑物!AE25 -> 0 | I7: =G7-E7 -> 0 | J7: =H7-F7 -> 0 | K7: =IF(E7=0,"",I7/E7*100) | L7: =IF(F7=0,"",J7/F7*100)
A8: 4-8-2 | B8: 固定资产-构筑物及其他辅助设施 | C8: =构筑物!M25 -> 0 | D8: =构筑物!N25 -> 0 | E8: =构筑物!O25 -> 0 | F8: =构筑物!P25 -> 0 | G8: =构筑物!Q25 -> 0 | H8: =构筑物!S25 -> 0 | I8: =G8-E8 -> 0 | J8: =H8-F8 -> 0 | K8: =IF(E8=0,"",I8/E8*100) | L8: =IF(F8=0,"",J8/F8*100)
A9: 4-8-3 | B9: 固定资产-管道及沟槽 | C9: =管道沟槽!AF26 -> 0 | D9: =管道沟槽!AK26 -> 0 | E9: =管道沟槽!AL26 -> 0 | F9: =管道沟槽!AM26 -> 0 | G9: =管道沟槽!AN26 -> 0 | H9: =管道沟槽!AP26 -> 0 | I9: =G9-E9 -> 0 | J9: =H9-F9 -> 0 | K9: =IF(E9=0,"",I9/E9*100) | L9: =IF(F9=0,"",J9/F9*100)
B10: 房屋建筑物类减值准备 | D10: =房屋建筑物!Z26+构筑物!N26+管道沟槽!AK27 -> 100 | F10: =房屋建筑物!AB26+构筑物!P26+管道沟槽!AM27 -> 0 | H10: =房屋建筑物!AE26+构筑物!S26+管道沟槽!AP27 -> 0 | I10: =G10-E10 -> 0 | J10: =H10-F10 -> 0 | K10: =IF(E10=0,"",I10/E10*100) | L10: =IF(F10=0,"",J10/F10*100)
B11: 房屋建筑物类合计 | C11: =SUM(C7:C9)-C10 -> 0 | D11: =SUM(D7:D9)-D10 -> 900 | E11: =SUM(E7:E9)-E10 -> 0 | F11: =SUM(F7:F9)-F10 -> 0 | G11: =SUM(G7:G9)-G10 -> 0 | H11: =SUM(H7:H9)-H10 -> 0 | I11: =G11-E11 -> 0 | J11: =H11-F11 -> 0 | K11: =IF(E11=0,"",I11/E11*100) | L11: =IF(F11=0,"",J11/F11*100)
A13: 4-8-4 | B13: 固定资产-机器设备 | C13: =机器设备!M1103 -> 0 | D13: =机器设备!N1103 -> 2000 | E13: =机器设备!O1103 -> 0 | F13: =机器设备!P1103 -> 0 | G13: 96356600 | H13: 38640351 | I13: =G13-E13 -> 96356600 | J13: =H13-F13 -> 38640351 | K13: =IF(E13=0,"",I13/E13*100) | L13: =IF(F13=0,"",J13/F13*100)
A14: 4-8-5 | B14: 固定资产-车辆 | C14: =车辆!N25 -> 0 | D14: =车辆!O25 -> 0 | E14: =车辆!P25 -> 0 | F14: =车辆!Q25 -> 0 | G14: =车辆!R25 -> 0 | H14: =车辆!T25 -> 0 | I14: =G14-E14 -> 0 | J14: =H14-F14 -> 0 | K14: =IF(E14=0,"",I14/E14*100) | L14: =IF(F14=0,"",J14/F14*100)
A15: 4-8-6 | B15: 固定资产-电子设备 | C15: =电子设备!M25 -> 0 | D15: =电子设备!N25 -> 0 | E15: =电子设备!O25 -> 0 | F15: =电子设备!P25 -> 0 | G15: =电子设备!Q25 -> 0 | H15: =电子设备!S25 -> 0 | I15: =G15-E15 -> 0 | J15: =H15-F15 -> 0 | K15: =IF(E15=0,"",I15/E15*100) | L15: =IF(F15=0,"",J15/F15*100)
B16: 设备类减值准备 | D16: =机器设备!N1104+车辆!O26+电子设备!N26 -> 0 | F16: =机器设备!P1104+车辆!Q26+电子设备!P26 -> 0 | H16: =机器设备!S1104+车辆!T26+电子设备!S26 -> 0 | I16: =G16-E16 -> 0 | J16: =H16-F16 -> 0 | K16: =IF(E16=0,"",I16/E16*100) | L16: =IF(F16=0,"",J16/F16*100)
B17: 设备类合计 | C17: =SUM(C13:C15)-C16 -> 0 | D17: =SUM(D13:D15)-D16 -> 2000 | E17: =SUM(E13:E15)-E16 -> 0 | F17: =SUM(F13:F15)-F16 -> 0 | G17: =SUM(G13:G15)-G16 -> 96356600 | H17: =SUM(H13:H15)-H16 -> 38640351 | I17: =G17-E17 -> 96356600 | J17: =H17-F17 -> 38640351 | K17: =IF(E17=0,"",I17/E17*100) | L17: =IF(F17=0,"",J17/F17*100)
M18: =J17-Sheet1!C16 -> 0 | O18: =I17-Sheet1!B16 -> 0
A19: 4-8-7 | B19: 固定资产-土地 | C19: =土地!O28 -> 0 | D19: =土地!P28 -> 0 | E19: =土地!Q28 -> 0 | F19: =土地!R28 -> 0 | G19: =土地!S28 -> 0 | H19: =土地!T28 -> 0 | I19: =G19-E19 -> 0 | J19: =H19-F19 -> 0 | K19: =IF(E19=0,"",I19/E19*100) | L19: =IF(F19=0,"",J19/F19*100)
A21: 4-8 | B21: 固定资产合计 | C21: =SUM(C7:C9,C13:C15,C19) -> 0 | D21: =SUM(D7:D9,D13:D15,D19) -> 3000 | E21: =SUM(E7:E9,E13:E15,E19) -> 0 | F21: =SUM(F7:F9,F13:F15,F19) -> 0 | G21: =SUM(G7:G9,G13:G15,G19) -> 96356600 | H21: =SUM(H7:H9,H13:H15,H19) -> 38640351 | I21: =G21-E21 -> 96356600 | J21: =H21-F21 -> 38640351 | K21: =IF(E21=0,"",I21/E21*100) | L21: =IF(F21=0,"",J21/F21*100)
A22: 4-8 | B22: 减：固定资产减值准备 | D22: =D10+D16 -> 100 | F22: =F10+F16 -> 0 | H22: =H10+H16 -> 0 | I22: =G22-E22 -> 0 | J22: =H22-F22 -> 0 | K22: =IF(E22=0,"",I22/E22*100) | L22: =IF(F22=0,"",J22/F22*100)
A23: 4-8 | B23: 固定资产合计 | C23: =C21-C22 -> 0 | D23: =D21-D22 -> 2900 | E23: =E21-E22 -> 0 | F23: =F21-F22 -> 0 | G23: =G21-G22 -> 96356600 | H23: =H21-H22 -> 38640351 | I23: =I21-I22 -> 96356600 | J23: =J21-J22 -> 38640351 | K23: =IF(E23=0,"",I23/E23*100) | L23: =IF(F23=0,"",J23/F23*100)
H24: 评估机构:辽宁中华信资产评估有限公司

Sheet Sheet1
A4: B1 | B4: ='B1'!M102 -> 29338000 | C4: ='B1'!O102 -> 11965958
A5: B2 | B5: ='B2'!M455 -> 23737200 | C5: ='B2'!O455 -> 8940329
A6: B3 | B6: ='B3'!M37 -> 1823600 | C6: ='B3'!O37 -> 393008
A7: B4 | B7: ='B4'!M10 -> 277600 | C7: ='B4'!O10 -> 152186
A8: A1 | B8: ='A1'!M22 -> 652200 | C8: ='A1'!O22 -> 310294
A9: A2 | B9: ='A2'!M98 -> 14590600 | C9: ='A2'!O98 -> 6412264
A10: A3 | B10: ='A3'!M43 -> 246800 | C10: ='A3'!O43 -> 90875
A11: A4 | B11: ='A4'!M172 -> 2386900 | C11: ='A4'!O172 -> 821970
A12: A5 | B12: ='A5'!M156 -> 20583300 | C12: ='A5'!O156 -> 8683222
A13: 锅炉房 | B13: =锅炉房!M13 -> 490000 | C13: =锅炉房!O13 -> 29865
A14: 开闭所 | B14: =开闭所!M44 -> 1580500 | C14: =开闭所!O44 -> 671607
A15: 研发楼 | B15: =研发楼!M27 -> 649900 | C15: =研发楼!O27 -> 168773
B16: =SUM(B4:B15) -> 96356600 | C16: =SUM(C4:C15) -> 38640351

Sheet 车辆
A1: 返回索引页 | B1: 返回
A2: 固定资产—车辆评估明细表
A3: =CONCATENATE(封面!D9,封面!F9,封面!G9,封面!H9,封面!I9,封面!J9,封面!K9) -> 评估基准日：2022年7月22日
A4: =封面!D7&封面!F7 -> 产权持有人：抚顺经济开发区诚达融资担保有限公司 | V4: 金额单位：人民币元
A5: 序号 | B5: 车辆牌号 | C5: 车辆名称及规格型号 | D5: 使用单位 | E5: 生产厂家 | F5: 计量单位 | G5: 数量 | H5: 购置日期 | I5: 启用日期 | J5: 检验有效期至 | K5: 已行驶里程(公里) | L5: 折旧年限 | M5: 残值率 | N5: 审计前账面值 | P5: 账面价值 | R5: 评估价值 | U5: 增值率% | V5: 备注 | W5: 证载权利人
N6: 原值 | O6: 净值 | P6: 原值 | Q6: 净值 | R6: 原值 | S6: 成新率% | T6: 净值
T7: =ROUND(R7*S7/100,0) -> 0 | U7: =IF(Q7=0,"",(T7-Q7)/Q7*100)
T8: =ROUND(R8*S8/100,0) -> 0 | U8: =IF(Q8=0,"",(T8-Q8)/Q8*100)
T9: =ROUND(R9*S9/100,0) -> 0 | U9: =IF(Q9=0,"",(T9-Q9)/Q9*100)
T10: =ROUND(R10*S10/100,0) -> 0 | U10: =IF(Q10=0,"",(T10-Q10)/Q10*100)
T11: =ROUND(R11*S11/100,0) -> 0 | U11: =IF(Q11=0,"",(T11-Q11)/Q11*100)
T12: =ROUND(R12*S12/100,0) -> 0 | U12: =IF(Q12=0,"",(T12-Q12)/Q12*100)
T13: =ROUND(R13*S13/100,0) -> 0 | U13: =IF(Q13=0,"",(T13-Q13)/Q13*100)
T14: =ROUND(R14*S14/100,0) -> 0 | U14: =IF(Q14=0,"",(T14-Q14)/Q14*100)
T15: =ROUND(R15*S15/100,0) -> 0 | U15: =IF(Q15=0,"",(T15-Q15)/Q15*100)
T16: =ROUND(R16*S16/100,0) -> 0 | U16: =IF(Q16=0,"",(T16-Q16)/Q16*100)
T17: =ROUND(R17*S17/100,0) -> 0 | U17: =IF(Q17=0,"",(T17-Q17)/Q17*100)
T18: =ROUND(R18*S18/100,0) -> 0 | U18: =IF(Q18=0,"",(T18-Q18)/Q18*100)
... T24: =ROUND(R24*S24/100,0) -> 0 | U24: =IF(Q24=0,"",(T24-Q24)/Q24*100)
A25: 合 计 | N25: =SUM(N7:N24) -> 0 | O25: =SUM(O7:O24) -> 0 | P25: =SUM(P7:P24) -> 0 | Q25: =SUM(Q7:Q24) -> 0 | R25: =SUM(R7:R24) -> 0 | T25: =SUM(T7:T24) -> 0 | U25: =IF(Q25=0,"",(T25-Q25)/Q25*100)
A26: 减：车辆减值准备 | U26: =IF(Q26=0,"",(T26-Q26)/Q26*100)
A27: 合 计 | N27: =N25-N26 -> 0 | O27: =O25-O26 -> 0 | P27: =P25-P26 -> 0 | Q27: =Q25-Q26 -> 0 | R27: =R25-R26 -> 0 | T27: =T25-T26 -> 0 | U27: =IF(Q27=0,"",(T27-Q27)/Q27*100)
A28: =封面!D11&封面!F11 -> 产权持有人填表人： | R28: ="评估人员："&封面!F25 -> 评估人员：
A29: =CONCATENATE(封面!D15,封面!F15,封面!G15,封面!H15,封面!I15,封面!J15,封面!K15) -> 填表日期：2022年6月28日

Sheet 电子设备
A1: 返回索引页 | B1: 返回
A2: 固定资产—电子设备评估明细表
A3: =CONCATENATE(封面!D9,封面!F9,封面!G9,封面!H9,封面!I9,封面!J9,封面!K9) -> 评估基准日：2022年7月22日
A4: =封面!D7&封面!F7 -> 产权持有人：抚顺经济开发区诚达融资担保有限公司 | U4: 金额单位：人民币元
A5: 序号 | B5: 设备编号 | C5: 设备名称 | D5: 规格型号 | E5: 使用单位 | F5: 生产厂家 | G5: 计量单位 | H5: 数量 | I5: 购置日期 | J5: 启用日期 | K5: 折旧年限 | L5: 残值率 | M5: 审计前账面值 | O5: 账面价值 | Q5: 评估价值 | T5: 增值率% | U5: 备注
M6: 原值 | N6: 净值 | O6: 原值 | P6: 净值 | Q6: 原值 | R6: 成新率% | S6: 净值
S7: =ROUND(Q7*R7/100,0) -> 0 | T7: =IF(P7=0,"",(S7-P7)/P7*100)
S8: =ROUND(Q8*R8/100,0) -> 0 | T8: =IF(P8=0,"",(S8-P8)/P8*100)
S9: =ROUND(Q9*R9/100,0) -> 0 | T9: =IF(P9=0,"",(S9-P9)/P9*100)
S10: =ROUND(Q10*R10/100,0) -> 0 | T10: =IF(P10=0,"",(S10-P10)/P10*100)
S11: =ROUND(Q11*R11/100,0) -> 0 | T11: =IF(P11=0,"",(S11-P11)/P11*100)
S12: =ROUND(Q12*R12/100,0) -> 0 | T12: =IF(P12=0,"",(S12-P12)/P12*100)
S13: =ROUND(Q13*R13/100,0) -> 0 | T13: =IF(P13=0,"",(S13-P13)/P13*100)
S14: =ROUND(Q14*R14/100,0) -> 0 | T14: =IF(P14=0,"",(S14-P14)/P14*100)
S15: =ROUND(Q15*R15/100,0) -> 0 | T15: =IF(P15=0,"",(S15-P15)/P15*100)
S16: =ROUND(Q16*R16/100,0) -> 0 | T16: =IF(P16=0,"",(S16-P16)/P16*100)
S17: =ROUND(Q17*R17/100,0) -> 0 | T17: =IF(P17=0,"",(S17-P17)/P17*100)
S18: =ROUND(Q18*R18/100,0) -> 0 | T18: =IF(P18=0,"",(S18-P18)/P18*100)
... S24: =ROUND(Q24*R24/100,0) -> 0 | T24: =IF(P24=0,"",(S24-P24)/P24*100)
A25: 合 计 | M25: =SUM(M7:M24) -> 0 | N25: =SUM(N7:N24) -> 0 | O25: =SUM(O7:O24) -> 0 | P25: =SUM(P7:P24) -> 0 | Q25: =SUM(Q7:Q24) -> 0 | S25: =SUM(S7:S24) -> 0 | T25: =IF(P25=0,"",(S25-P25)/P25*100)
A26: 减：电子设备减值准备 | T26: =IF(P26=0,"",(S26-P26)/P26*100)
A27: 合 计 | M27: =M25-M26 -> 0 | N27: =N25-N26 -> 0 | O27: =O25-O26 -> 0 | P27: =P25-P26 -> 0 | Q27: =Q25-Q26 -> 0 | S27: =S25-S26 -> 0 | T27: =IF(P27=0,"",(S27-P27)/P27*100)
A28: =封面!D11&封面!F11 -> 产权持有人填表人： | Q28: ="评估人员："&封面!F25 -> 评估人员：
A29: =CONCATENATE(封面!D15,封面!F15,封面!G15,封面!H15,封面!I15,封面!J15,封面!K15) -> 填表日期：2022年6月28日

Sheet 土地
A1: 返回索引页 | B1: 返回
A2: 固定资产—土地评估明细表
A3: =CONCATENATE(封面!D9,封面!F9,封面!G9,封面!H9,封面!I9,封面!J9,封面!K9) -> 评估基准日：2022年7月22日
A4: =封面!D7&封面!F7 -> 产权持有人：抚顺经济开发区诚达融资担保有限公司 | V4: 金额单位：人民币元
A5: 序号 | B5: 土地权证编号 | C5: 宗地名称 | D5: 土地位置 | E5: 取得日期 | F5: 用地性质 | G5: 土地用途 | H5: 准用年限 | I5: 终止日期 | J5: 开发程度 | K5: 面积(m2) | L5: 原始入账价值 | M5: 摊销年限 | N5: 年摊销额 | O5: 审计前账面值 | Q5: 账面价值 | S5: 评估价值 | U5: 增值率% | V5: 备注 | W5: 证载权利人
O6: 原值 | P6: 净值 | Q6: 原值 | R6: 净值 | S6: 原值 | T6: 净值
U7: =IF(R7=0,"",(T7-R7)/R7*100)
U8: =IF(R8=0,"",(T8-R8)/R8*100)
U9: =IF(R9=0,"",(T9-R9)/R9*100)
U10: =IF(R10=0,"",(T10-R10)/R10*100)
U11: =IF(R11=0,"",(T11-R11)/R11*100)
U12: =IF(R12=0,"",(T12-R12)/R12*100)
U13: =IF(R13=0,"",(T13-R13)/R13*100)
U14: =IF(R14=0,"",(T14-R14)/R14*100)
U15: =IF(R15=0,"",(T15-R15)/R15*100)
U16: =IF(R16=0,"",(T16-R16)/R16*100)
U17: =IF(R17=0,"",(T17-R17)/R17*100)
U18: =IF(R18=0,"",(T18-R18)/R18*100)
... U27: =IF(R27=0,"",(T27-R27)/R27*100)
A28: 合 计 | O28: =SUM(O7:O27) -> 0 | P28: =SUM(P7:P27) -> 0 | Q28: =SUM(Q7:Q27) -> 0 | R28: =SUM(R7:R27) -> 0 | S28: =SUM(S7:S27) -> 0 | T28: =SUM(T7:T27) -> 0 | U28: =IF(R28=0,"",(T28-R28)/R28*100)
A29: =封面!D11&封面!F11 -> 产权持有人填表人： | S29: ="评估人员："&封面!F27 -> 评估人员：
A30: =CONCATENATE(封面!D15,封面!F15,封面!G15,封面!H15,封面!I15,封面!J15,封面!K15) -> 填表日期：2022年6月28日

Sheet B1
A2: 固定资产—机器设备评估明细表
A3: =CONCATENATE(封面!D9,封面!F9,封面!G9,封面!H9,封面!I9,封面!J9,封面!K9) -> 评估基准日：2022年7月22日
A4: 产权持有人：抚顺经济开发区诚达融资担保有限公司 | Q4: 金额单位：人民币元
A5: 序号1 | B5: 序号2 | C5: 序号 | D5: 设备名称 | E5: 规格型号 | F5: 生产厂家 | G5: 计量单位 | H5: 数量 | I5: 购置日期 | J5: 启用日期 | K5: 账面价值 | M5: 评估价值 | P5: 增值率% | Q5: 备注
K6: 原值 | L6: 净值 | M6: 原值 | N6: 成新率% | O6: 净值
A7: 1 | B7: 75 | C7: 345 | D7: 三坐标测量机 | E7: NHL-17/20 | F7: 北京南航立科 | G7: 台 | H7: 1 | I7: 2015.-2-8 | J7: 2015.-2-8 | M7: 100000 | N7: 60 | O7: 60000 | Q7: B1
A8: 2 | B8: 76 | C8: 346 | D8: 单臂三维测量划线机 | E8: CHXY-34.17.20CT2W | F8: 爱佩仪中测(成都)精密仪器有限公司 | G8: 台 | H8: 1 | I8: 41275 | J8: 41275 | M8: 200000 | N8: 38 | O8: 76000 | Q8: B1
A9: 3 | B9: 21 | C9: 60 | D9: 镗床TPX6111B/3 | E9: TPX6111B/3（三坐标） | F9: 沈阳机床厂 | G9: 台 | H9: 1 | I9: 41639 | J9: 41639 | M9: 370000 | N9: 40 | O9: 148000 | Q9: B1
A10: 4 | B10: 20 | C10: 59 | D10: 镗床 | E10: TPX6111B(两轴) | F10: 沈阳机床厂 | G10: 台 | H10: 1 | I10: 41274 | J10: 41274 | M10: 260000 | N10: 40 | O10: 104000 | Q10: B1
A11: 5 | B11: 86 | C11: 416 | D11: 卧式车床 | E11: CW61125M | F11: 大连机床厂 | G11: 台 | H11: 1 | I11: 41305 | J11: 41305 | M11: 275000 | N11: 50 | O11: 137500 | Q11: B1
A12: 6 | B12: 5 | C12: 6 | D12: 数控车床 | E12: CKA6180A | F12: 大连机床厂 | G12: 台 | H12: 1 | I12: 41274 | J12: 41274 | M12: 260000 | N12: 38 | O12: 98800 | Q12: B1
A13: 7 | B13: 13 | C13: 19 | D13: 数控卧式车床 | E13: CKD6163 | F13: 山东普利森 | G13: 台 | H13: 1 | I13: 41274 | J13: 41274 | M13: 200000 | N13: 38 | O13: 76000 | Q13: B1
A14: 8 | B14: 41 | C14: 152 | D14: 数控车床CKA5085NJ | E14: CKA5085NJ | F14: 沈阳机床 | G14: 台 | H14: 1 | I14: 41090 | J14: 41090 | M14: 92700 | N14: 35 | O14: 32445 | Q14: B1
A15: 9 | B15: 56 | C15: 236 | D15: 牛头刨床 | E15: BC6063 | F15: 抚顺机床制造有限公司 | G15: 台 | H15: 1 | I15: 36160 | J15: 36160 | M15: 32000 | N15: 10 | O15: 3200 | Q15: B1
A16: 10 | B16: 19 | C16: 55 | D16: 万能升降台铣床 | E16: FX6145 | F16: 四川长征 | G16: 台 | H16: 1 | I16: 41305 | J16: 41305 | M16: 175000 | N16: 45 | O16: 78750 | Q16: B1
A17: 11 | B17: 57 | C17: 237 | D17: 马鞍车床 | E17: CW6280C | F17: 大连 | G17: 台 | H17: 1 | I17: 36160 | J17: 36160 | M17: 85000 | N17: 10 | O17: 8500 | Q17: B1
A18: 12 | B18: 45 | C18: 171 | D18: 卧式车床 | E18: CW6263E*1000mm | F18: 大连机床集团 | G18: 台 | H18: 1 | I18: 40878 | J18: 40878 | M18: 115000 | N18: 40 | O18: 46000 | Q18: B1
A19: 13 | B19: 44 | C19: 165 | D19: 卧式铣镗床 | E19: TBX6111B | F19: 中捷机床厂 | G19: 台 | H19: 1 | I19: 41609 | J19: 41609 | M19: 285000 | N19: 40 | O19: 114000 | Q19: B1
... A25: 19 | B25: 46 | C25: 173 | D25: 万能回转头铣床 | E25: X716回转头 | F25: 山东威达重工 | G25: 台 | H25: 1 | I25: 41974 | J25: 41974 | M25: 230000 | N25: 58 | O25: 133400 | Q25: B1
A26: 20 | B26: 63 | C26: 243 | D26: 立式铣床 | E26: X7150A | F26: 山东华强精密机床有限公司 | G26: 台 | H26: 1 | I26: 2011-9.30 | J26: 2011-9.30 | M26: 118000 | N26: 30 | O26: 35400 | Q26: B1
A27: 21 | B27: 64 | C27: 244 | D27: 立式铣床 | E27: XA7140 | F27: 山东威达重工 | G27: 台 | H27: 1 | I27: 40332 | J27: 40332 | M27: 117000 | N27: 26 | O27: 30420 | Q27: B1
A28: 22 | B28: 60 | C28: 240 | D28: 立式钻床 | E28: Z5150A | F28: 丹东机床 | G28: 台 | H28: 1 | I28: 40482 | J28: 40482 | M28: 27000 | N28: 28 | O28: 7560 | Q28: B1
A29: 23 | B29: 4 | C29: 5 | D29: 数控铣床/立式加工中心 | E29: DTC1580 | F29: 云南鼎泰数控机床厂 | G29: 台 | H29: 1 | I29: 41305 | J29: 41305 | M29: 670000 | N29: 41 | O29: 274700 | Q29: B1
A30: 24 | B30: 23 | C30: 79 | D30: 数控高速单柱立式车床 | E30: SVT160X14/8A-NC、1600mm | F30: 齐齐哈尔重型数控装备股份有限公司 | G30: 台 | H30: 1 | I30: 41274 | J30: 41274 | M30: 700000 | N30: 38 | O30: 266000 | Q30: B1
A31: 25 | B31: 42 | C31: 159 | D31: 数控卧式铣镗床 | E31: TKB6511B | F31: 沈阳机床股份公司中捷机床厂 | G31: 套 | H31: 1 | I31: 41640 | J31: 41640 | M31: 2030000 | N31: 46 | O31: 933800 | Q31: B1
A32: 26 | B32: 6 | C32: 7 | D32: 数控卧式铣镗床 | E32: TKP6511B | F32: 沈阳机床股份公司中捷机床厂 | G32: 台 | H32: 1 | I32: 41425 | J32: 41425 | M32: 1850000 | N32: 41 | O32: 758500 | Q32: B1
A33: 27 | B33: 7 | C33: 8 | D33: 对刀仪 | E33: P280050X5Z5NLAK11TM | F33: 瑞士PWB | G33: 台 | H33: 1 | I33: 41639 | J33: 41639 | M33: 120000 | N33: 45 | O33: 54000 | Q33: B1
A34: 28 | B34: 29 | C34: 117 | D34: 数控卧式铣镗床 | E34: TKP6513 | F34: 沈阳机床股份限公司中捷机床厂 | G34: 台 | H34: 1 | I34: 41639 | J34: 41639 | M34: 2450000 | N34: 45 | O34: 1102500 | Q34: B1
A35: 29 | B35: 12 | C35: 18 | D35: 数控卧式铣镗床 | E35: TKP6513 | F35: 沈阳机床股份公司中捷机床厂 | G35: 台 | H35: 1 | I35: 41274 | J35: 41274 | M35: 2300000 | N35: 40 | O35: 920000 | Q35: B1
A36: 30 | B36: 8 | C36: 9 | D36: 数控卧式铣镗床 | E36: TKP6513 | F36: 沈阳机床股份公司中捷机床厂 | G36: 台 | H36: 1 | I36: 41425 | J36: 41425 | M36: 2450000 | N36: 41 | O36: 1004500 | Q36: B1
A37: 31 | B37: 37 | C37: 136 | D37: 单柱立式车床2000mm | E37: CA5120E*12/8(单柱） | F37: 齐重数控装备设备股份有公司 | G37: 台 | H37: 1 | I37: 41364 | J37: 41364 | M37: 660000 | N37: 50 | O37: 330000 | Q37: B1
A38: 32 | B38: 36 | C38: 135 | D38: 单柱立式车床 | E38: CA5116E*10/5、1600mm | F38: 齐齐哈尔重型 | G38: 台 | H38: 1 | I38: 41364 | J38: 41364 | M38: 410000 | N38: 50 | O38: 205000 | Q38: B1
... A44: 38 | B44: 14 | C44: 20 | D44: 立式加工中心 | E44: VMC1600B-1700*800mm | F44: 沈阳机床股份公司中捷钻镗床厂 | G44: 台 | H44: 1 | I44: 41455 | J44: 41455 | M44: 785000 | N44: 43 | O44: 337550 | Q44: B1
A45: 39 | B45: 24 | C45: 87 | D45: 喷砂机 | F45: 上海申江压力容器有限公司 | G45: 台 | H45: 1 | I45: 41639 | J45: 41639 | M45: 13000 | N45: 45 | O45: 5850 | Q45: B1
A46: 40 | B46: 58 | C46: 238 | D46: 摇臂钻床 | E46: Z3050*16/1 | F46: 中捷钻床 | G46: 台 | H46: 1 | I46: 41274 | J46: 41274 | M46: 68000 | N46: 43 | O46: 29240 | Q46: B1
A47: 41 | B47: 3 | C47: 3 | D47: 电动攻丝机 | E47: S40-16-800 | F47: 扬州德科机电制造有限公司 | G47: 台 | H47: 1 | I47: 41305 | J47: 41305 | M47: 18000 | N47: 41 | O47: 7380 | Q47: B1
A48: 42 | B48: 25 | C48: 92 | D48: 气动攻丝机 | E48: HL1924 | F48: 沈阳亨利斯机电设备有限公司 | G48: 台 | H48: 1 | I48: 41394 | J48: 41394 | M48: 11000 | N48: 45 | O48: 4950 | Q48: B1
A49: 43 | B49: 26 | C49: 93 | D49: 气动攻丝机 | E49: HL1924 | F49: 沈阳亨利斯机电设备有限公司 | G49: 台 | H49: 1 | I49: 41394 | J49: 41394 | M49: 11000 | N49: 45 | O49: 4950 | Q49: B1
A50: 44 | B50: 27 | C50: 94 | D50: 气动攻丝机 | E50: HL1924 | F50: 万木春 | G50: 台 | H50: 1 | I50: 41208 | J50: 41208 | M50: 11000 | N50: 42 | O50: 4620 | Q50: B1
A51: 45 | B51: 40 | C51: 147 | D51: 摇臂钻床Z3050*16/1 | E51: Z3050*16/1 | F51: 沈阳机床中捷机床厂 | G51: 台 | H51: 1 | I51: 41639 | J51: 41639 | M51: =136000/2 -> 68000 | N51: 48 | O51: =65280/2 -> 32640 | Q51: B1 | R51: 原为两台。重新看现场只有一台
...

Sheet B2
A2: 固定资产—机器设备评估明细表
A3: =CONCATENATE(封面!D9,封面!F9,封面!G9,封面!H9,封面!I9,封面!J9,封面!K9) -> 评估基准日：2022年7月22日
A4: 产权持有人：抚顺经济开发区诚达融资担保有限公司 | Q4: 金额单位：人民币元
A5: 序号1 | B5: 序号2 | C5: 序号 | D5: 设备名称 | E5: 规格型号 | F5: 生产厂家 | G5: 计量单位 | H5: 数量 | I5: 购置日期 | J5: 启用日期 | K5: 账面价值 | M5: 评估价值 | P5: 增值率% | Q5: 备注
K6: 原值 | L6: 净值 | M6: 原值 | N6: 成新率% | O6: 净值
A7: 1 | B7: 62 | C7: 185 | D7: 玻璃钢冷却塔 | E7: DDN3-80 | F7: 济南第二机床有限公司成套设备 | G7: 台 | H7: 1 | I7: 41274 | J7: 41274 | M7: 3774000 | N7: 43 | O7: 1622820 | Q7: B2东外
A8: 2 | B8: 60 | C8: 183 | D8: 除尘设备 | E8: 布袋 | F8: 济南第二机床有限公司成套设备 | G8: 台 | H8: 1 | I8: 41274 | J8: 41274 | Q8: B2东外
A9: 3 | B9: 61 | C9: 184 | D9: 除尘设备 | E9: 布袋 | F9: 济南第二机床有限公司成套设备 | G9: 台 | H9: 1 | I9: 41274 | J9: 41274 | Q9: B2东外
A10: 4 | B10: 58 | C10: 181 | D10: 离心通风机 | E10: 4-68-10D | F10: 济南第二机床有限公司成套设备 | G10: 台 | H10: 1 | I10: 41274 | J10: 41274 | Q10: B2东外
A11: 5 | B11: 59 | C11: 182 | D11: 离心通风机 | E11: 4-68-10D | F11: 济南第二机床有限公司成套设备 | G11: 台 | H11: 1 | I11: 41274 | J11: 41274 | Q11: B2东外
A12: 19 | B12: 55 | C12: 178 | D12: 固定式双臂混砂机（组合设备） | E12: DS12 | F12: 济南第二机床有限公司成套设备 | G12: 套 | H12: 1 | I12: 41274 | J12: 41274 | Q12: B2
A13: 20 | B13: 56 | C13: 179 | D13: 固定式双臂混砂机 | E13: DS25 | F13: 济南第二机床有限公司成套设备 | G13: 台 | H13: 1 | I13: 41274 | J13: 41274 | Q13: B2
A14: 21 | B14: 57 | C14: 180 | D14: 固定式双臂混砂机 | E14: DS12 | F14: 济南第二机床有限公司成套设备 | G14: 台 | H14: 1 | I14: 41274 | J14: 41274 | Q14: B2
A15: 22 | B15: 65 | C15: 188 | D15: 呋喃树脂砂再生线系统设备 | E15: 4个罐 | F15: 济南第二机床有限公司成套设备 | G15: 组 | H15: 1 | I15: 41274 | J15: 41274 | Q15: B2
A16: 24 | B16: 63 | C16: 186 | D16: 振动落砂机 | E16: 0 | F16: 济南第二机床有限公司成套设备 | G16: 台 | H16: 1 | I16: 41274 | J16: 41274 | Q16: B2
A17: 24 | B17: 64 | C17: 187 | D17: 振动破碎机 | E17: 0 | F17: 济南第二机床有限公司成套设备 | G17: 台 | H17: 1 | I17: 41274 | J17: 41274 | Q17: B2
A18: 6 | B18: 23 | C18: 52 | D18: 台车式时效炉 | E18: RHL-300-3 | F18: 江苏威尔炉业公司 | G18: 台 | H18: 1 | I18: 41455 | J18: 41455 | M18: 255000 | N18: 40 | O18: 102000 | Q18: B2
A19: 7 | B19: 24 | C19: 53 | D19: 井式淬火炉 | E19: RDJ-280-6 | F19: 江苏威尔炉业公司 | G19: 台 | H19: 1 | I19: 40908 | J19: 40908 | M19: 165000 | N19: 30 | O19: 49500 | Q19: B2
A20: 8 | B20: 25 | C20: 54 | D20: 井式淬火炉 | E20: RDJ-280-6 | F20: 江苏威尔炉业公司 | G20: 台 | H20: 1 | I20: 40908 | J20: 40908 | M20: 165000 | N20: 30 | O20: 49500 | Q20: B2
A21: 9 | B21: 33 | C21: 101 | D21: 铝合金淬火炉 | E21: RZ-270-5 | F21: 沈阳兴科炉业公司 | G21: 台 | H21: 1 | I21: 41639 | J21: 41639 | M21: 730000 | N21: 45 | O21: 328500 | Q21: B2
A22: 10 | B22: 81 | C22: 262 | D22: 金属带锯床 | E22: GW4250 | F22: 浙江威力士机械有限公司 | G22: 台 | H22: 1 | I22: 41274 | J22: 41274 | M22: 43000 | N22: 47 | O22: 20210 | Q22: B2
A23: 11 | B23: 35 | C23: 103 | D23: 等离子切割机 | E23: CUT-400 | F23: 常州森淼焊割设备有限公司 | G23: 台 | H23: 1 | I23: 41639 | J23: 41639 | M23: 42000 | N23: 20 | O23: 8400 | Q23: B2
A24: 12 | B24: 1 | C24: 4 | D24: Q3750抛丸机 | E24: Q3750 | F24: 浙江大丰鑫桥铸造公司 | G24: 台 | H24: 1 | I24: 41090 | J24: 41090 | M24: 155000 | N24: 40 | O24: 62000 | Q24: B2
A25: 13 | B25: 18 | C25: 47 | D25: 抛丸机 | E25: Q3730 | F25: 浙江大丰鑫桥铸造公司 | G25: 台 | H25: 1 | I25: 41274 | J25: 41274 | M25: 150000 | N25: 43 | O25: 64500 | Q25: B2
A26: 14 | B26: 17 | C26: 45 | D26: GB系列金属带锯床 | E26: GB4260 | F26: 浙江奥林发机床有限公司 | G26: 台 | H26: 1 | I26: 41066 | J26: 41066 | M26: 49000 | N26: 39 | O26: 19110 | Q26: B2
A27: 15 | B27: 36 | C27: 104 | D27: BX1-500A焊机 | E27: BX1-500 | F27: 上海众升电焊设备公司 | G27: 台 | H27: 1 | I27: 41425 | J27: 41425 | M27: 1600 | N27: 46 | O27: 736 | Q27: B2
A28: 16 | B28: 38 | C28: 106 | D28: 电焊机 | E28: BX1-500B | F28: 上海众升电焊设备公司 | G28: 台 | H28: 1 | I28: 41639 | J28: 41639 | M28: 1600 | N28: 50 | O28: 800 | Q28: B2
A29: 17 | B29: 40 | C29: 118 | D29: 奥太焊机 | E29: WSME-400 | F29: 上海沪工电焊机有限公司 | G29: 台 | H29: 1 | I29: 41060 | J29: 41060 | M29: 5500 | N29: 39 | O29: 2145 | Q29: B2
... A43: 36 | B43: 77 | C43: 226 | D43: 五工位倾转式重力铸造机 | E43: ZJQ960D5 | F43: 无锡市亚威机械制造有限公司 | G43: 台 | H43: 1 | I43: 41000 | J43: 41000 | M43: 235000 | N43: 38 | O43: 89300 | Q43: B2
A44: 37 | B44: 78 | C44: 227 | D44: 坩埚熔化炉 | E44: RGL-130-8 | F44: 沈阳兴科炉业有限公司 | G44: 台 | H44: 1 | I44: 2012.1.1 | J44: 2012.1.1 | M44: 22000 | N44: 26 | O44: 5720 | Q44: B2
A45: 38 | B45: 50 | C45: 150 | D45: 热风循环加热炉、低压铸造机一套 | E45: ZJ455D | F45: 无锡方力达 | G45: 套 | H45: 1 | I45: 41274 | J45: 41274 | M45: 340000 | N45: 40 | O45: 136000 | Q45: B2
A46: 39 | B46: 83 | C46: 264 | D46: 铝液旋转除气机 | E46: XC210A | F46: 济南海德热工有限公司 | G46: 台 | H46: 1 | I46: 41210 | J46: 41210 | M46: 38000 | N46: 32 | O46: 12160 | Q46: B2
A47: 40 | B47: 8 | C47: 32 | D47: 铝液旋转除气机 | E47: XC210A | F47: 济南海德热工有限公司 | G47: 台 | H47: 1 | I47: 41090 | J47: 41090 | M47: 38000 | N47: 30 | O47: 11400 | Q47: B2
A48: 41 | B48: 28 | C48: 96 | D48: 铝业精炼机 | E48: SG-III | F48: 沈阳工大铸造研究所 | G48: 台 | H48: 1 | I48: 40908 | J48: 40908 | M48: 21000 | N48: 30 | O48: 6300 | Q48: B2
A49: 42 | B49: 22 | C49: 51 | D49: 砂型低压铸造机 | E49: J4525 | F49: 重庆福德铸造机械有限公司 | G49: 台 | H49: 1 | I49: 41090 | J49: 41090 | M49: 530000 | N49: 37 | O49: 196100 | Q49: B2
A50: 43 | B50: 29 | C50: 97 | D50: 坩埚熔化炉 | E50: RR-130-8 | F50: 沈阳兴科炉业有限公司 | G50: 台 | H50: 1 | I50: 41486 | J50: 41486 | M50: 22000 | N50: 39 | O50: 8580 | Q50: B2
A51: 44 | B51: 30 | C51: 98 | D51: 坩埚熔化炉 | E51: RR-130-8 | F51: 沈阳兴科炉业有限公司 | G51: 台 | H51: 1 | I51: 41486 | J51: 41486 | M51: 22000 | N51: 39 | O51: 8580 | Q51: B2
A52: 45 | B52: 31 | C52: 99 | D52: 坩埚熔化炉 | E52: RR-130-8 | F52: 沈阳兴科炉业有限公司 | G52: 台 | H52: 1 | I52: 41486 | J52: 41486 | M52: 22000 | N52: 39 | O52: 8580 | Q52: B2
A53: 46 | B53: 41 | C53: 127 | D53: 坩锅熔化炉 | E53: RR-135-8 | F53: 沈阳兴科炉业有限公司 | G53: 台 | H53: 1 | I53: 41639 | J53: 41639 | M53: 31000 | N53: 34 | O53: 10540 | Q53: B2
A54: 47 | B54: 43 | C54: 129 | D54: 悬吊式铝水浇包CXLB-100 | E54: CXLB-100(1吨) | F54: 济南海德热工公司 | G54: 台 | H54: 1 | I54: 41090 | J54: 41090 | M54: 31000 | N54: 40 | O54: 12400 | Q54: B2
...

Sheet B3
A2: 固定资产—机器设备评估明细表
A3: =CONCATENATE(封面!D9,封面!F9,封面!G9,封面!H9,封面!I9,封面!J9,封面!K9) -> 评估基准日：2022年7月22日
A4: 产权持有人：抚顺经济开发区诚达融资担保有限公司 | Q4: 金额单位：人民币元
A5: 序号1 | B5: 序号2 | C5: 序号 | D5: 设备名称 | E5: 规格型号 | F5: 生产厂家 | G5: 计量单位 | H5: 数量 | I5: 购置日期 | J5: 启用日期 | K5: 账面价值 | M5: 评估价值 | P5: 增值率% | Q5: 备注
K6: 原值 | L6: 净值 | M6: 原值 | N6: 成新率% | O6: 净值
A7: 1 | B7: 1 | C7: 15 | D7: 储气罐C-2-10 | E7: C-2-10--4立 | F7: 青岛海空压力容器有限公司 | G7: 台 | H7: 1 | I7: 41639 | J7: 41639 | M7: 10000 | N7: 65 | O7: 6500 | Q7: B3
A8: 2 | B8: 2 | C8: 89 | D8: 空压机 | E8: BLT-75AG | F8: 上海博莱特压缩机有限公司 | G8: 台 | H8: 1 | I8: 41639 | J8: 41639 | M8: 68000 | N8: 58 | O8: 39440 | Q8: B3
A9: 3 | B9: 9 | C9: 278 | D9: 常压热水锅炉 | E9: CDZH2.8-85/60-A11 | F9: 凤城三田热能公司 | G9: 台 | H9: 6 | I9: 41639 | J9: 41639 | M9: 1260000 | N9: 15 | O9: 189000 | Q9: B3锅炉房
A10: 4 | B10: 10 | C10: 279 | D10: 环链刮板除渣机 | E10: GBC-12 | F10: 凤城铧洋公司 | G10: 台 | H10: 1 | I10: 41640 | J10: 41640 | M10: 26000 | N10: 15 | O10: 3900 | Q10: B3锅炉房
A11: 5 | B11: 12 | C11: 285 | D11: 草坪割草机 | F11: 不详 | G11: 台 | H11: 1 | I11: 41274 | J11: 41274 | M11: 2300 | N11: 5 | O11: 115 | Q11: B3锅炉房
A12: 6 | B12: 7 | C12: 246 | D12: 奥太焊机 | E12: WSME-500 | F12: 山大奥太电气有限公司 | G12: 台 | H12: 1 | I12: 41425 | J12: 41425 | M12: 8800 | N12: 46 | O12: 4048 | Q12: B3
A13: 7 | B13: 8 | C13: 247 | D13: 奥神焊机 | E13: ZX7-250 | F13: 山大奥神 | G13: 台 | H13: 1 | I13: 41274 | J13: 41274 | M13: 1000 | N13: 43 | O13: 430 | Q13: B3
B14: 3 | C14: 156 | D14: 低压动力柜 | F14: 不详 | G14: 台 | H14: 1 | I14: 41172 | J14: 41172 | M14: 4000 | N14: 41 | O14: 1640 | Q14: B3锅炉房
B15: 4 | C15: 157 | D15: 动力箱 | G15: 台 | H15: 1 | I15: 41639 | J15: 41639 | M15: 4500 | N15: 44 | O15: 1980 | Q15: B3锅炉房
B16: 5 | C16: 158 | D16: 动力箱 | G16: 台 | H16: 1 | I16: 41639 | J16: 41639 | M16: 4000 | N16: 44 | O16: 1760 | Q16: B3锅炉房
B17: 6 | C17: 170 | D17: 普通单梁起重机 | E17: 3T-19.5*9 | F17: 抚顺金梁起重机 | G17: 台 | H17: 1 | I17: 41640 | J17: 41640 | M17: 43500 | N17: 59 | O17: 25665 | Q17: B3
B18: 11 | C18: 283 | D18: 动力箱 | G18: 台 | H18: 6 | I18: 40908 | J18: 40908 | M18: 18000 | N18: 36 | O18: 6480 | Q18: B3
D19: 小 计 | M19: =SUM(M7:M18) -> 1450100 | O19: =SUM(O7:O18) -> 280958
B20: 13 | C20: 658 | D20: 沙箱142 | E20: 没标注的应该是铁制的 | G20: 个 | H20: 1 | I20: 41455 | J20: 41455 | M20: 22100 | N20: 30 | O20: 6630 | Q20: B3
B21: 14 | C21: 659 | D21: 沙箱143 | G21: 个 | H21: 1 | I21: 41455 | J21: 41455 | M21: 22100 | N21: 30 | O21: 6630 | Q21: B3
B22: 15 | C22: 660 | D22: 沙箱144 | G22: 个 | H22: 1 | I22: 41455 | J22: 41455 | M22: 22100 | N22: 30 | O22: 6630 | Q22: B3
B23: 16 | C23: 661 | D23: 沙箱145 | G23: 个 | H23: 1 | I23: 41455 | J23: 41455 | M23: 22100 | N23: 30 | O23: 6630 | Q23: B3
B24: 17 | C24: 662 | D24: 沙箱146 | G24: 个 | H24: 1 | I24: 41455 | J24: 41455 | M24: 22100 | N24: 30 | O24: 6630 | Q24: B3
B25: 18 | C25: 663 | D25: 沙箱147 | G25: 个 | H25: 1 | I25: 41455 | J25: 41455 | M25: 22100 | N25: 30 | O25: 6630 | Q25: B3
B26: 19 | C26: 664 | D26: 沙箱148 | G26: 个 | H26: 1 | I26: 41455 | J26: 41455 | M26: 22100 | N26: 30 | O26: 6630 | Q26: B3
B27: 20 | C27: 665 | D27: 沙箱149 | G27: 个 | H27: 1 | I27: 41455 | J27: 41455 | M27: 22100 | N27: 30 | O27: 6630 | Q27: B3
B28: 21 | C28: 666 | D28: 沙箱150 | E28: 铝制 | G28: 个 | H28: 1 | I28: 41455 | J28: 41455 | M28: 29900 | N28: 30 | O28: 8970 | Q28: B3
B29: 22 | C29: 667 | D29: 沙箱151 | G29: 个 | H29: 1 | I29: 41455 | J29: 41455 | M29: 22100 | N29: 30 | O29: 6630 | Q29: B3
B30: 23 | C30: 668 | D30: 沙箱152 | E30: 铝制 | G30: 个 | H30: 1 | I30: 41455 | J30: 41455 | M30: 29400 | N30: 30 | O30: 8820 | Q30: B3
B31: 24 | C31: 669 | D31: 沙箱153 | E31: 铝制 | G31: 个 | H31: 1 | I31: 41455 | J31: 41455 | M31: 29400 | N31: 30 | O31: 8820 | Q31: B3
B32: 25 | C32: 670 | D32: 沙箱154 | G32: 个 | H32: 1 | I32: 41455 | J32: 41455 | M32: 22100 | N32: 30 | O32: 6630 | Q32: B3
B33: 26 | C33: 671 | D33: 沙箱155 | G33: 个 | H33: 1 | I33: 41455 | J33: 41455 | M33: 22100 | N33: 30 | O33: 6630 | Q33: B3
B34: 27 | C34: 672 | D34: 沙箱156 | G34: 个 | H34: 1 | I34: 41455 | J34: 41455 | M34: 22100 | N34: 30 | O34: 6630 | Q34: B3
B35: 28 | C35: 673 | D35: 沙箱157 | G35: 个 | H35: 1 | I35: 41455 | J35: 41455 | M35: 19600 | N35: 30 | O35: 5880 | Q35: B3
D36: 小 计 | M36: =SUM(M20:M35) -> 373500 | O36: =SUM(O20:O35) -> 112050
D37: 合 计 | M37: =M19+M36 -> 1823600 | O37: =O19+O36 -> 393008

Sheet B4
A2: 固定资产—机器设备评估明细表
A3: =CONCATENATE(封面!D9,封面!F9,封面!G9,封面!H9,封面!I9,封面!J9,封面!K9) -> 评估基准日：2022年7月22日
A4: 产权持有人：抚顺经济开发区诚达融资担保有限公司 | Q4: 金额单位：人民币元
A5: 序号1 | B5: 序号2 | C5: 序号 | D5: 设备名称 | E5: 规格型号 | F5: 生产厂家 | G5: 计量单位 | H5: 数量 | I5: 购置日期 | J5: 启用日期 | K5: 账面价值 | M5: 评估价值 | P5: 增值率% | Q5: 备注
K6: 原值 | L6: 净值 | M6: 原值 | N6: 成新率% | O6: 净值
A7: 1 | B7: 2 | C7: 260 | D7: 中频炉 | E7: KGPS750型--1.5吨 | F7: 本溪高中频电源设备总厂电子器件厂 | G7: 对 | H7: 1 | I7: 41640 | J7: 41640 | M7: 220000 | N7: 54 | O7: 118800 | Q7: B4
A8: 2 | B8: 3 | C8: 284 | D8: 动力柜 | E8: XL-21 | G8: 台 | H8: 1 | I8: 40908 | J8: 40908 | M8: 2600 | N8: 36 | O8: 936 | Q8: B4
B9: 1 | C9: 175 | D9: 普通电动单梁起重机（不含轨道） | E9: 5T--19.5*9 | F9: 河北大方起重机 | G9: 台 | H9: 1 | I9: 41639 | J9: 41639 | M9: 55000 | N9: 59 | O9: 32450 | Q9: B4
D10: 小 计 | M10: =SUM(M7:M9) -> 277600 | O10: =SUM(O7:O9) -> 152186

Sheet A1
A2: 固定资产—机器设备评估明细表
A3: =CONCATENATE(封面!D9,封面!F9,封面!G9,封面!H9,封面!I9,封面!J9,封面!K9) -> 评估基准日：2022年7月22日
A4: 产权持有人：抚顺经济开发区诚达融资担保有限公司 | Q4: 金额单位：人民币元
A5: 序号1 | B5: 序号2 | C5: 序号 | D5: 设备名称 | E5: 规格型号 | F5: 生产厂家 | G5: 计量单位 | H5: 数量 | I5: 购置日期 | J5: 启用日期 | K5: 账面价值 | M5: 评估价值 | P5: 增值率% | Q5: 备注
K6: 原值 | L6: 净值 | M6: 原值 | N6: 成新率% | O6: 净值
